BEGIN:VCALENDAR
VERSION:2.0
PRODID:-//Ville Morte - ECPv5.12.4//NONSGML v1.0//EN
CALSCALE:GREGORIAN
METHOD:PUBLISH
X-WR-CALNAME:Ville Morte
X-ORIGINAL-URL:https://villemorte.fr
X-WR-CALDESC:évènements pour Ville Morte
BEGIN:VTIMEZONE
TZID:Europe/Paris
BEGIN:DAYLIGHT
TZOFFSETFROM:+0100
TZOFFSETTO:+0200
TZNAME:CEST
DTSTART:20200329T010000
END:DAYLIGHT
BEGIN:STANDARD
TZOFFSETFROM:+0200
TZOFFSETTO:+0100
TZNAME:CET
DTSTART:20201025T010000
END:STANDARD
END:VTIMEZONE
BEGIN:VEVENT
DTSTART;TZID=Europe/Paris:20200110T193000
DTEND;TZID=Europe/Paris:20200110T193000
DTSTAMP:20260425T025607
CREATED:20191210T140054Z
LAST-MODIFIED:20191210T140054Z
UID:11526-1578684600-1578684600@villemorte.fr
SUMMARY:Going Underground : Vernissage + Projection
DESCRIPTION:Le Marché Gare et le Comoedia présentent\, en collaboration avec Hallucinations Collectives et Le Zèbre \nCiné Club “The Decline of Western Civilization” & Vernissage de l’Expo “Going Underground” ► Au Comoedia \nBillets : De 5\,70€ à 8\,80€ la séance selon modalités \n▬▬ THE DECLINE OF WESTERN CIVILIZATION ▬▬\nDocumentaire de Penelope Spheeris (USA – 1981)\nSéance à 19h30. \nPenelope Spheeris\, réalisatrice du film « Wayne’s World » est aussi connue pour une autre oeuvre culte\, plus underground celle-ci : « Suburbia »\, ou l’errance de jeunes punks dans les banlieues californiennes. Et surtout\, elle a ravi tous les mohawks\, boules à zéro et autres chevelus de la planète avec la trilogie documentaire « The Decline of Western Civilization »\, qui se penche sur la scène rock de Los Angeles en 3 parties : le punk des jeunes années\, le métal\, et le milieu des « punks à chien ». \nC’est le premier volet qui nous intéresse ici\, document unique mêlant perfs musicales et témoignages en immersion (avec Black Flag\, Circle Jerks\, Claude Bessy…) pour atteindre un degré d’authenticité incontestable. De celle-ci naît une fascination\, et même une émotion devant la vie\, les envies\, l’énergie et les idéaux des protagonistes. Spheeris filmait pour raconter\, on regarde aujourd’hui son film pour se rappeler\, dans un révérencieux hommage posthume\, puisque le personnage central du film est\, paraît-il\, mort depuis longtemps. \n▬▬ VERNISSAGE DE L’EXPO « GOING UNDERGROUND » ▬▬\nLa scène lyonnaise en nage\, en rage et en images.\nA l’issue de la séance. \nExposition de photographies de la scène musicale underground de 1980 à 2020. On retrouve des photographies de Caroline Vernière\, Hazam ou Gilles Garrigos\, traduisant de la vivacité de la scène locale\, des Mescaleros aux Scaners\, en passant par le Peuple de l’Herbe\, Condense ou Sixpack. \nLe livre « Je suis souterrain »\, catalogue de l’exposition accompagné de textes\, sera disponible sur place. \nInfos > http://lezebre.info/ \nLe ++\nA partir de 23h30 : Mix au Bootlegger par l’équipe du site « J’écoute Sardou dans le noir » \n▦▦▦ INFOS PRATIQUES ▦▦▦\n13 Avenue Berthelot 69007 LYON\nTramway T1 : arrêt Quai Claude Bernard / T2 : arrêt Centre Berthelot\nMétro ligne A : arrêt Perrache / ligne B : arrêt Jean Macé\nVélo’v : angle de la rue Pasteur et quai Claude Bernard\nParc vélos : côté CHRD\nParking fermé 350 places : 99 rue de Marseille\nToutes les salles sont accessibles aux personnes à mobilité réduite.
URL:https://villemorte.fr/agenda/going-underground-vernissage-projection/
LOCATION:Cinéma Comoedia\, 13 Avenue Berthelot\, Lyon\, 69007 
CATEGORIES:exposition,projection
END:VEVENT
END:VCALENDAR