BEGIN:VCALENDAR
VERSION:2.0
PRODID:-//Ville Morte - ECPv5.12.4//NONSGML v1.0//EN
CALSCALE:GREGORIAN
METHOD:PUBLISH
X-WR-CALNAME:Ville Morte
X-ORIGINAL-URL:https://villemorte.fr
X-WR-CALDESC:évènements pour Ville Morte
BEGIN:VTIMEZONE
TZID:Europe/Paris
BEGIN:DAYLIGHT
TZOFFSETFROM:+0100
TZOFFSETTO:+0200
TZNAME:CEST
DTSTART:20180325T010000
END:DAYLIGHT
BEGIN:STANDARD
TZOFFSETFROM:+0200
TZOFFSETTO:+0100
TZNAME:CET
DTSTART:20181028T010000
END:STANDARD
END:VTIMEZONE
BEGIN:VEVENT
DTSTART;TZID=Europe/Paris:20181221T193000
DTEND;TZID=Europe/Paris:20181221T193000
DTSTAMP:20260419T234120
CREATED:20181123T122355Z
LAST-MODIFIED:20181123T122355Z
UID:7673-1545420600-1545420600@villemorte.fr
SUMMARY:GREGOIRE BRUNO + GERARD JUGNO 106 + MORSE
DESCRIPTION:@ Bimbo
URL:https://villemorte.fr/agenda/gregoire-bruno-gerard-jugno-106-morse/
LOCATION:BIMBO\, 60 rue Salomon Reinach\, LYON\, 69007
CATEGORIES:musique live
END:VEVENT
END:VCALENDAR