BEGIN:VCALENDAR
VERSION:2.0
PRODID:-//Ville Morte - ECPv5.12.4//NONSGML v1.0//EN
CALSCALE:GREGORIAN
METHOD:PUBLISH
X-WR-CALNAME:Ville Morte
X-ORIGINAL-URL:https://villemorte.fr
X-WR-CALDESC:évènements pour Ville Morte
BEGIN:VTIMEZONE
TZID:Europe/Paris
BEGIN:DAYLIGHT
TZOFFSETFROM:+0100
TZOFFSETTO:+0200
TZNAME:CEST
DTSTART:20230326T010000
END:DAYLIGHT
BEGIN:STANDARD
TZOFFSETFROM:+0200
TZOFFSETTO:+0100
TZNAME:CET
DTSTART:20231029T010000
END:STANDARD
END:VTIMEZONE
BEGIN:VEVENT
DTSTART;TZID=Europe/Paris:20231014T130000
DTEND;TZID=Europe/Paris:20231015T120000
DTSTAMP:20260420T170401
CREATED:20230918T103424Z
LAST-MODIFIED:20231009T090932Z
UID:20746-1697288400-1697371200@villemorte.fr
SUMMARY:Groovedge Gloria Golry
DESCRIPTION:Groovedge Gloria Golry
URL:https://villemorte.fr/agenda/groovedge-gloria-golry/
LOCATION:Grrrnd Zero\, 60\, avenue de Bohlen\, Vaulx en Velin\, 69120
CATEGORIES:DJ Set,musique live
END:VEVENT
END:VCALENDAR