BEGIN:VCALENDAR
VERSION:2.0
PRODID:-//Ville Morte - ECPv5.12.4//NONSGML v1.0//EN
CALSCALE:GREGORIAN
METHOD:PUBLISH
X-WR-CALNAME:Ville Morte
X-ORIGINAL-URL:https://villemorte.fr
X-WR-CALDESC:évènements pour Ville Morte
BEGIN:VTIMEZONE
TZID:Europe/Paris
BEGIN:DAYLIGHT
TZOFFSETFROM:+0100
TZOFFSETTO:+0200
TZNAME:CEST
DTSTART:20190331T010000
END:DAYLIGHT
BEGIN:STANDARD
TZOFFSETFROM:+0200
TZOFFSETTO:+0100
TZNAME:CET
DTSTART:20191027T010000
END:STANDARD
END:VTIMEZONE
BEGIN:VEVENT
DTSTART;TZID=Europe/Paris:20190913T203000
DTEND;TZID=Europe/Paris:20190913T203000
DTSTAMP:20260425T164728
CREATED:20190824T090410Z
LAST-MODIFIED:20190901T204214Z
UID:10092-1568406600-1568406600@villemorte.fr
SUMMARY:Grounded
DESCRIPTION:Le Farmer présente :\nGROUNDED (cover rock)\nVendredi 13 Septembre ⁂ 20h30 ⁂ Prix libre\n❤ Nirvana\, Police\, Foo Fighters\, Red Hot Chili Peppers.. \n⁂ GROUNDED (rock – Lyon)\nGrounded\, c’est 4 potes néo-lyonnais\, et surtout 3 passions : musique\, musique\, musique.\nOn te promet une chaude ambiance\, du rock dans tous ses états\, grâce à 4 ingrédients :\n– Marc\, alias Marco (comme tous les Marc en fait) : il aime Stewart Copeland\, Zinédine Zidane et les biscottes.\n– Charline\, alias Chacha (comme aussi toutes les Charline) : Flea l’a inspirée\, elle est malgré tout la seule à aimer le dernier album de Sum 41\, et elle aura toujours une copine à te faire rencontrer.\n– Arnaud\, alias Nono (comme tous les Arnaud\, bah ouais…) : il aime les solos aux acoustiques bien précises\, les petits déjeuners bien équilibrés et les gros tacos.\n– Antoine (le seul sans alias) : capable de déterminer l’âge de Dave Grohl sur une photo à partir de sa coupe de cheveux\, il possède le Blu-Ray de Pacific Rim et adore les Miel Pops. \nSi tu veux voir le mélange détonnant que tout ça donne en live\, alors RDV le 13 septembre pour mettre le feu au Farmer!! \nFB https://www.facebook.com/Grounded-2143474389316541/ \n🕣 20h30\n💸 Prix libre (suggéré: 3€ – recettes 100% reversées aux groupes)\n🚴‍ LE FARMER – 14 montée des Carmélites – 69001 LYON\n• Privilégiez la marche à pied ou le vélo ! Et si tu viens en trottinette tu paye le prix annoncé x3 •
URL:https://villemorte.fr/agenda/grounded/
LOCATION:Le Farmer\, 14 montée des Carmélites\, Lyon\, France
CATEGORIES:musique live
END:VEVENT
END:VCALENDAR