BEGIN:VCALENDAR
VERSION:2.0
PRODID:-//Ville Morte - ECPv5.12.4//NONSGML v1.0//EN
CALSCALE:GREGORIAN
METHOD:PUBLISH
X-WR-CALNAME:Ville Morte
X-ORIGINAL-URL:https://villemorte.fr
X-WR-CALDESC:évènements pour Ville Morte
BEGIN:VTIMEZONE
TZID:Europe/Paris
BEGIN:DAYLIGHT
TZOFFSETFROM:+0100
TZOFFSETTO:+0200
TZNAME:CEST
DTSTART:20220327T010000
END:DAYLIGHT
BEGIN:STANDARD
TZOFFSETFROM:+0200
TZOFFSETTO:+0100
TZNAME:CET
DTSTART:20221030T010000
END:STANDARD
END:VTIMEZONE
BEGIN:VEVENT
DTSTART;TZID=Europe/Paris:20220410T200000
DTEND;TZID=Europe/Paris:20220410T200000
DTSTAMP:20260425T232753
CREATED:20220407T111643Z
LAST-MODIFIED:20220407T111643Z
UID:15488-1649620800-1649620800@villemorte.fr
SUMMARY:GUILT TRIP + SORCERER + RISE UP
DESCRIPTION:Dimanche 10 avril 2022\nau ROCK N’EAT\n32 Quai Arloing – 69009 Lyon\nOuverture des portes : 19h30 / Concerts : 20h\n12\,50 € en prévente / 15 € sur place \nBilletterie \nGUILT TRIP\ncrossover hardcore – Manchester\, UK\nGuilt Trip\, formé en 2015 est un groupe de crossover hardcore originaire de Manchester (UK) qui aurait très bien pu s’appeller Ri-riff\, Heavy et Lourd Lourd ! Avec 1 démo\, 2 albums (Power Trip record\, BeatDown Hardwear Rec.) et 2 EP dont le dernier « Rain City » sorti en octobre 2021\, Guilt Trip repousse encore une nouvelle fois les limites de leur agressivité avec des morceaux encore plus aboutis et une production encore plus fat.\n+\nSORCERER\nmetal hardcore – Paris\nSorcerer est un groupe de metal hardcore parisien formé en 2020 et composé par des membres de Worst Doubt\, Mind Awake\, Providence et Jaw Crack.\nLeur premier EP “Joy” sorti en avril 2021 chez Delivrance Records est construit autour d’influences aux horizons multiples comme : Oathbreaker\, Rise and Fall\, les groupes metalcore H8000 classiques des années 90\, tout comme des groupes plus actuels tels que : Inclination\, Hands of God\, Brutality Will Prevail ou encore Kickback et Converge notamment pour le timbre de voix. Fred et Jamy vous diraient que c’est pas sorcier\, la magie de Sorcerer est décuplée en live ! \n+\nRISE UP\npunk hardcore – Mâcon / Bourg-en-Bresse\nRISE UP naît en 2016 à Bourg-en-Bresse avec Chris [chant]\, Olivier [guitare]\, Antoine [batterie] et Xavier [basse] et évolue dans un style punk/hardcore. A son actif\, RISE UP a une série de concerts avec notamment les 1ère parties de Agnostic Front\, Smash Hit Combo ou Sidilarsen et quelques festivals un peu partout en France et en Suisse ! En 2018\, changement de line-up avec l’arrivée de Yannick à la guitare\, qui apporte d’avantage de couleur punk au groupe ! \nAccès en transports en commun :\nBus 2\, 19\, 31\, 45 et C14 > arrêt Pont Koënig Rive droite.\nMétro D > arrêt Valmy\nParkings en face\nStation Vélo’V
URL:https://villemorte.fr/agenda/guilt-trip-sorcerer-rise-up/
LOCATION:Rock n Eat\, 32 Quai Arloing\, Lyon\, 69009
CATEGORIES:musique live
END:VEVENT
END:VCALENDAR