BEGIN:VCALENDAR
VERSION:2.0
PRODID:-//Ville Morte - ECPv5.12.4//NONSGML v1.0//EN
CALSCALE:GREGORIAN
METHOD:PUBLISH
X-WR-CALNAME:Ville Morte
X-ORIGINAL-URL:https://villemorte.fr
X-WR-CALDESC:évènements pour Ville Morte
BEGIN:VTIMEZONE
TZID:Europe/Paris
BEGIN:DAYLIGHT
TZOFFSETFROM:+0100
TZOFFSETTO:+0200
TZNAME:CEST
DTSTART:20170326T010000
END:DAYLIGHT
BEGIN:STANDARD
TZOFFSETFROM:+0200
TZOFFSETTO:+0100
TZNAME:CET
DTSTART:20171029T010000
END:STANDARD
END:VTIMEZONE
BEGIN:VEVENT
DTSTART;TZID=Europe/Paris:20170217T203000
DTEND;TZID=Europe/Paris:20170217T203000
DTSTAMP:20260423T105320
CREATED:20170121T110715Z
LAST-MODIFIED:20170130T181859Z
UID:2953-1487363400-1487363400@villemorte.fr
SUMMARY:Shield Patterns + Hangoyster
DESCRIPTION:@Kraspek Myzik \nSHIELD PATTERNS\nEletronic Alternatif – Uk \nShield Pattern est un duo basé à Manchester\, composé de Claire Brentnall et Richard Knox (A-Sun Amissa / The Rustle of the Stars / Glissando). Ensemble ils créent une musique émouvante\, profusion d’ombres et de lumières\, à la fois mélodique et incroyablement précise. Leur sonorité est tour à tour accessible et exploratoire\, prenant fin par un triomphe de musique rêveusement surréelle et contemporaine.\nLeur LP Contour Lines (2014)\, acclamé par la critique\, Violet (2015)\, ainsi que leur petit dernier Mirror Breathing (2016)\, sont tous trois sorti sur Gizeh le propre label de Richard.\nDepuis leur existence\, ils ont été remixé par alt-J et le néerlandais Uncles\, invité par les titans du post-métal Cult of Luna à se produire à leur festival Beyond the Redshift\, à Londres. Ils sont apparu au Wave-Gotik-Treffen à Leipzig en Allemagne (le plus grand festival d’Europe) en parallèle des nombreuses tournées et concerts aux côtés de personnalités comme James Holden\, Portico\, Olöf Arnalds\, Woman’s Hour\, Bernard + Edith et Conquering Animal Sound. Le mois de Mars 2015 a vu le duo prendre la route pour promouvoir leur album Contour Lines.\nhttp://www.shieldpatterns.com/ \nHANGOYSTER\nElectro-disco-darko-rock avec un zeste de reggae – Lyon \nLors d’un apéro dinatoire chez Abdel Ramir \, JusticierBoum entendit une sirène de pompier . C’est alors que lui vint l’idée de faire de la musique cinématographique pour chien . Giuseppe Davide Mohamed ayant lui même écris la BO de « Babe » et parlant couramment le langage canin approuva et commença à chantonner « Balibalo » dans cette même langue . Ainsi fut crée « Hide Yourself » premier tube de HangOyster \, le premier projet solo à 4 .\nhttps://www.facebook.com/hangoyster/ \nCB uniquement au bar. \n 
URL:https://villemorte.fr/agenda/hangoyster/
LOCATION:Kraspek Myzik\, 20 Montée Saint Sébastien\, Lyon\, 69001\, France
CATEGORIES:musique live
ATTACH;FMTTYPE=image/jpeg:https://villemorte.fr/wp-content/uploads/2017/01/16299315_1422695137765095_1403820368793238924_n.jpg
END:VEVENT
END:VCALENDAR