BEGIN:VCALENDAR
VERSION:2.0
PRODID:-//Ville Morte - ECPv5.12.4//NONSGML v1.0//EN
CALSCALE:GREGORIAN
METHOD:PUBLISH
X-WR-CALNAME:Ville Morte
X-ORIGINAL-URL:https://villemorte.fr
X-WR-CALDESC:évènements pour Ville Morte
BEGIN:VTIMEZONE
TZID:Europe/Paris
BEGIN:DAYLIGHT
TZOFFSETFROM:+0100
TZOFFSETTO:+0200
TZNAME:CEST
DTSTART:20190331T010000
END:DAYLIGHT
BEGIN:STANDARD
TZOFFSETFROM:+0200
TZOFFSETTO:+0100
TZNAME:CET
DTSTART:20191027T010000
END:STANDARD
END:VTIMEZONE
BEGIN:VEVENT
DTSTART;TZID=Europe/Paris:20190424T203000
DTEND;TZID=Europe/Paris:20190424T203000
DTSTAMP:20260424T180007
CREATED:20190310T184556Z
LAST-MODIFIED:20190310T224642Z
UID:8857-1556137800-1556137800@villemorte.fr
SUMMARY:HAWAIIAN PISTOLEROS + AYBEE
DESCRIPTION:• Hawaiian Pistoleros •\n// Western swing – Fr // \nInfluences principales : Bob wills\, Alfed aloha apaka\, Buck owens \nPuisant librement leur inspiration dans le vaste répertoire de la musique américaine des années 30 aux années 50\, entre western swing\, jazz\, et musique hawaiienne\, sans négliger quelques clins d’oeil au rock’n roll des années Sun Records\, les Hawaiian Pistoleros nous entraînent dans un univers tout en élégance et décontraction\, à la fois enjoué\, sensuel\, et délicatement nostalgique\, comme un 78 tours qu’on aurait tout juste sorti de son emballage… \nECOUTER : https://hawaiianpistoleros1.bandcamp.com/\n© photo : Laurent Guizard \n• Aybee •\n// Pop Folk – Lyon // \nInfluences principales : Dustin Kensrue (Thrice)\, City and Colour\, Chris Cornell \nAybee est un auteur-compositeur lyonnais\, influencé par la musique folk ainsi que la pop rock.\nIl a commencé la musique dès son enfance par la batterie. Il a joué dans différents groupes sur Lyon dans un style punk rock et metal. Il a participé à différents enregistrements d’albums notamment avec le groupe de metal progressif Stolen Memories lequel est toujours en activité. Il est aussi le chanteur et le batteur du groupe de punk rock Freaky Hollers.\nMaintenant il se produit en solo en tant que chanteur-guitariste écrivant ses propres chansons. Il se produit aussi avec un répertoire de nombreuses reprises allant de la musique pop internationale aux classiques du rock’n’roll. \nECOUTER :\nhttps://www.youtube.com/watch?v=rNDjHALsg20&list=PLkuVmZJYgEZ_NcDc0keemXMJhiC6tZz0W&t=0s&index=2 \nKRASPEK MYZIK\n20H30 – 6/8€ \n  \n 
URL:https://villemorte.fr/agenda/hawaiian-pistoleros/
LOCATION:Kraspek Myzik\, 20 Montée Saint Sébastien\, Lyon\, 69001\, France
CATEGORIES:musique live
END:VEVENT
END:VCALENDAR