BEGIN:VCALENDAR
VERSION:2.0
PRODID:-//Ville Morte - ECPv5.12.4//NONSGML v1.0//EN
CALSCALE:GREGORIAN
METHOD:PUBLISH
X-WR-CALNAME:Ville Morte
X-ORIGINAL-URL:https://villemorte.fr
X-WR-CALDESC:évènements pour Ville Morte
BEGIN:VTIMEZONE
TZID:Europe/Paris
BEGIN:DAYLIGHT
TZOFFSETFROM:+0100
TZOFFSETTO:+0200
TZNAME:CEST
DTSTART:20190331T010000
END:DAYLIGHT
BEGIN:STANDARD
TZOFFSETFROM:+0200
TZOFFSETTO:+0100
TZNAME:CET
DTSTART:20191027T010000
END:STANDARD
END:VTIMEZONE
BEGIN:VEVENT
DTSTART;TZID=Europe/Paris:20190410T210000
DTEND;TZID=Europe/Paris:20190410T210000
DTSTAMP:20260423T221810
CREATED:20190311T234319Z
LAST-MODIFIED:20190311T234319Z
UID:9049-1554930000-1554930000@villemorte.fr
SUMMARY:Hoover III + The Horsebites - release party!
DESCRIPTION:HOOVER III \nNouvel astéroide space rock psych garage de Los Angeles! Leur album sort chez Permanent Records. Les deux guitares vont nous percher bien haut et leurs riffs et mélodies nous attraper sans relâchement dans un mur du son spatial et fuzz! \nhttps://www.youtube.com/watch?v=uPmgnOuFmEo\nhttps://www.facebook.com/hooveriii/\nhttps://hooveriii.bandcamp.com/\nhttps://open.spotify.com/album/5HzsSrat7eROCPka98L4Nv?si=8d9B6Hf-RICyW-wDuC70Sw \nTHE HORSEBITES \nGroupe lyonnais totalement power-pop fondé par des ex-membres de Lost Boys\, Buttshakers\, Le Parti\, Missing Souls\, Yeah Baby Yeah\, Cavemen 5\, Vegas Hookers et Hawaii Samurai. Une pop énergique à base de Fuzz et de voix nonchalantes qui peut rappeler leurs influences shoegaze ou même psychedelic.\nLeur premier 8 titres sort en vinyle chez Dangerhouse Skylab. \nhttps://www.facebook.com/HorsebitesBand/\nhttps://thehorsebites.bandcamp.com/releases
URL:https://villemorte.fr/agenda/hoover-iii-the-horsebites-release-party/
LOCATION:Trokson\, 110 Montée de la grande côte\, Lyon\, 69001\, France
CATEGORIES:musique live
END:VEVENT
END:VCALENDAR