BEGIN:VCALENDAR
VERSION:2.0
PRODID:-//Ville Morte - ECPv5.12.4//NONSGML v1.0//EN
CALSCALE:GREGORIAN
METHOD:PUBLISH
X-WR-CALNAME:Ville Morte
X-ORIGINAL-URL:https://villemorte.fr
X-WR-CALDESC:évènements pour Ville Morte
BEGIN:VTIMEZONE
TZID:Europe/Paris
BEGIN:DAYLIGHT
TZOFFSETFROM:+0100
TZOFFSETTO:+0200
TZNAME:CEST
DTSTART:20240331T010000
END:DAYLIGHT
BEGIN:STANDARD
TZOFFSETFROM:+0200
TZOFFSETTO:+0100
TZNAME:CET
DTSTART:20241027T010000
END:STANDARD
END:VTIMEZONE
BEGIN:VEVENT
DTSTART;TZID=Europe/Paris:20241006T183000
DTEND;TZID=Europe/Paris:20241006T183000
DTSTAMP:20260422T221234
CREATED:20241002T105456Z
LAST-MODIFIED:20241002T105456Z
UID:25958-1728239400-1728239400@villemorte.fr
SUMMARY:Ibrahima Cissokho
DESCRIPTION:Ibrahima Cissokho en concert solo
URL:https://villemorte.fr/agenda/ibrahima-cissokho-2/
LOCATION:Le Repaire\, 2 place des Capucins\, Lyon\, 69001
CATEGORIES:musique live
END:VEVENT
END:VCALENDAR