BEGIN:VCALENDAR
VERSION:2.0
PRODID:-//Ville Morte - ECPv5.12.4//NONSGML v1.0//EN
CALSCALE:GREGORIAN
METHOD:PUBLISH
X-WR-CALNAME:Ville Morte
X-ORIGINAL-URL:https://villemorte.fr
X-WR-CALDESC:évènements pour Ville Morte
BEGIN:VTIMEZONE
TZID:Europe/Paris
BEGIN:DAYLIGHT
TZOFFSETFROM:+0100
TZOFFSETTO:+0200
TZNAME:CEST
DTSTART:20170326T010000
END:DAYLIGHT
BEGIN:STANDARD
TZOFFSETFROM:+0200
TZOFFSETTO:+0100
TZNAME:CET
DTSTART:20171029T010000
END:STANDARD
END:VTIMEZONE
BEGIN:VEVENT
DTSTART;TZID=Europe/Paris:20171130T203000
DTEND;TZID=Europe/Paris:20171130T203000
DTSTAMP:20260420T080729
CREATED:20171104T230244Z
LAST-MODIFIED:20171104T230244Z
UID:4689-1512073800-1512073800@villemorte.fr
SUMMARY:Jake la Botz + Silène And The Dreamcatchers
DESCRIPTION:JAKE LA BOTZ \nLIKER : https://www.facebook.com/jakelabotzfanpage/\nREGARDER : https://www.facebook.com/jakelabotzfanpage/ \nUn délinquant juvénile au début des années 80 découvrant la musique punk et la dérive. Un décrocheur du secondaire qui travaille des petits boulots. Un busker de métro et de rue pris sous l’aile de bluesmen sages et sages à Chicago. Lecteur avide qui trace une auto-éducation dans une bibliothèque publique tout en tombant sous le charme de la musique\, des tatouages\, du soleil\, des motels bon marché\, et la toxicomanie dans la Californie du Sud. Acteur de cinéma. Musicien gospel dans une église entièrement noire. Bouddhiste. Professeur de méditation. Puis\, à travers d’innombrables concerts avec ses airs de Chet Baker et sa grosse guitare\, il trouve des amis et des admirateurs dans JD McPherson et une toute nouvelle récolte de musiciens américains dans sa nouvelle demeure à Nashville. C’est l’histoire vraie de Jake La Botz. \nSILÈNE AND THE DREAMCATCHERS\nFolk Irlandais Bluegrass – FR \nLIKER : https://www.facebook.com/sileneandthedreamcatchers/ \nQuintet lyonnais qui navigue entre le traditionnel irlandais\, le bluegrass et la folk\, Silene and the Dreamcatchers nous touchent par ses compositions originales portées par une voix aérienne . Douceur\, mélancolie\, poésie et nostalgie.
URL:https://villemorte.fr/agenda/jake-botz-silene-and-the-dreamcatchers/
LOCATION:Kraspek Myzik\, 20 Montée Saint Sébastien\, Lyon\, 69001\, France
CATEGORIES:musique live
ATTACH;FMTTYPE=image/jpeg:https://villemorte.fr/wp-content/uploads/2017/11/22366576_1689438037757469_476990743796527003_n.jpg
END:VEVENT
END:VCALENDAR