BEGIN:VCALENDAR
VERSION:2.0
PRODID:-//Ville Morte - ECPv5.12.4//NONSGML v1.0//EN
CALSCALE:GREGORIAN
METHOD:PUBLISH
X-WR-CALNAME:Ville Morte
X-ORIGINAL-URL:https://villemorte.fr
X-WR-CALDESC:évènements pour Ville Morte
BEGIN:VTIMEZONE
TZID:Europe/Paris
BEGIN:DAYLIGHT
TZOFFSETFROM:+0100
TZOFFSETTO:+0200
TZNAME:CEST
DTSTART:20240331T010000
END:DAYLIGHT
BEGIN:STANDARD
TZOFFSETFROM:+0200
TZOFFSETTO:+0100
TZNAME:CET
DTSTART:20241027T010000
END:STANDARD
END:VTIMEZONE
BEGIN:VEVENT
DTSTART;TZID=Europe/Paris:20241018T190000
DTEND;TZID=Europe/Paris:20241018T190000
DTSTAMP:20260419T193136
CREATED:20240917T202215Z
LAST-MODIFIED:20240917T202215Z
UID:25687-1729278000-1729278000@villemorte.fr
SUMMARY:Jey Khemeya + Elodie Mam’s
DESCRIPTION:Jey Khemeya\n\nChanteuse\,clarinettiste\, compositrice et parolière\, JEY KHEMEYA façonne son univers néo-soul en puisant dans les esthétiques : elle entremêle la force de la soul aux pulsations du hip-hop\, la complainte du blues à l’âme de la funk\, la poésie du rap à l’ardeur du jazz. De sa voix puissante\, elle propose des textes émouvants où se distille l’influence d’artistes comme Jorja Smith\, Kimberose ou encore Alicia Keys. \n\nElodie Mam’s\n\nELODIE MAM’S chante\, joue du piano\, compose et arrange ses morceaux. Elle s’inspire d’artistes tels que Moonchild\, Hiatus Kaiyote\, Victoria Monet ou Gretchen Parlato. Elle vous proposera un set à la «Tiny Desk» avec énergie\, avec en partie son dernier single «Flowered Garden» disponible sur les plateformes.
URL:https://villemorte.fr/agenda/jey-khemeya-elodie-mams/
LOCATION:Jack Jack\, Place Gaillard Romanet\,\, BRON\, 69500
CATEGORIES:musique live
END:VEVENT
END:VCALENDAR