BEGIN:VCALENDAR
VERSION:2.0
PRODID:-//Ville Morte - ECPv5.12.4//NONSGML v1.0//EN
CALSCALE:GREGORIAN
METHOD:PUBLISH
X-WR-CALNAME:Ville Morte
X-ORIGINAL-URL:https://villemorte.fr
X-WR-CALDESC:évènements pour Ville Morte
BEGIN:VTIMEZONE
TZID:Europe/Paris
BEGIN:DAYLIGHT
TZOFFSETFROM:+0100
TZOFFSETTO:+0200
TZNAME:CEST
DTSTART:20190331T010000
END:DAYLIGHT
BEGIN:STANDARD
TZOFFSETFROM:+0200
TZOFFSETTO:+0100
TZNAME:CET
DTSTART:20191027T010000
END:STANDARD
END:VTIMEZONE
BEGIN:VEVENT
DTSTART;TZID=Europe/Paris:20190404T203000
DTEND;TZID=Europe/Paris:20190404T203000
DTSTAMP:20260426T050232
CREATED:20190310T183220Z
LAST-MODIFIED:20190310T183220Z
UID:8845-1554409800-1554409800@villemorte.fr
SUMMARY:JO CARLEY AND THE OLD DRY SKULLS
DESCRIPTION:Jeu 04.04 \n\n\nJO CARLEY AND THE OLD DRY SKULLS \n\n\nRoots-ska-blues – Londres \n 
URL:https://villemorte.fr/agenda/jo-carley-and-the-old-dry-skulls/
LOCATION:Kraspek Myzik\, 20 Montée Saint Sébastien\, Lyon\, 69001\, France
CATEGORIES:musique live
END:VEVENT
END:VCALENDAR