BEGIN:VCALENDAR
VERSION:2.0
PRODID:-//Ville Morte - ECPv5.12.4//NONSGML v1.0//EN
CALSCALE:GREGORIAN
METHOD:PUBLISH
X-WR-CALNAME:Ville Morte
X-ORIGINAL-URL:https://villemorte.fr
X-WR-CALDESC:évènements pour Ville Morte
BEGIN:VTIMEZONE
TZID:Europe/Paris
BEGIN:DAYLIGHT
TZOFFSETFROM:+0100
TZOFFSETTO:+0200
TZNAME:CEST
DTSTART:20190331T010000
END:DAYLIGHT
BEGIN:STANDARD
TZOFFSETFROM:+0200
TZOFFSETTO:+0100
TZNAME:CET
DTSTART:20191027T010000
END:STANDARD
END:VTIMEZONE
BEGIN:VEVENT
DTSTART;TZID=Europe/Paris:20190323T203000
DTEND;TZID=Europe/Paris:20190323T203000
DTSTAMP:20260424T084344
CREATED:20181223T014917Z
LAST-MODIFIED:20181223T014917Z
UID:8035-1553373000-1553373000@villemorte.fr
SUMMARY:John Canoe ✚ Guest
DESCRIPTION:sam 23/03 John Canoe ✚ Guest (5€)
URL:https://villemorte.fr/agenda/john-canoe-%e2%9c%9a-guest/
LOCATION:Le Farmer\, 14 montée des Carmélites\, Lyon\, France
CATEGORIES:musique live
END:VEVENT
END:VCALENDAR