BEGIN:VCALENDAR
VERSION:2.0
PRODID:-//Ville Morte - ECPv5.12.4//NONSGML v1.0//EN
CALSCALE:GREGORIAN
METHOD:PUBLISH
X-WR-CALNAME:Ville Morte
X-ORIGINAL-URL:https://villemorte.fr
X-WR-CALDESC:évènements pour Ville Morte
BEGIN:VTIMEZONE
TZID:Europe/Paris
BEGIN:DAYLIGHT
TZOFFSETFROM:+0100
TZOFFSETTO:+0200
TZNAME:CEST
DTSTART:20170326T010000
END:DAYLIGHT
BEGIN:STANDARD
TZOFFSETFROM:+0200
TZOFFSETTO:+0100
TZNAME:CET
DTSTART:20171029T010000
END:STANDARD
END:VTIMEZONE
BEGIN:VEVENT
DTSTART;TZID=Europe/Paris:20171005T193000
DTEND;TZID=Europe/Paris:20171005T193000
DTSTAMP:20260420T195137
CREATED:20170921T184508Z
LAST-MODIFIED:20170921T185256Z
UID:4143-1507231800-1507231800@villemorte.fr
SUMMARY:Jorrdee + Lutèce
DESCRIPTION:JEUDI 05 OCT\n19H30 – Ouvertures des portes à 19H\n+ WARM UP AVEC DJ\n+ CONCERTS : JORRDEE + LUTECE\n+ STREET ART : Khwezi Strydom\n+ STAND SERIGRAPHIE : Unique en Série\n+ SURPRISES\n————————–————————-\nJorrdee\nInclassable\, son Hip Hop autotuné à la fois traînant et mélodieux\, le positionne entre le chant et le rap. Influencé par la scène trap d’Atlanta et par des artistes comme James Blake\, Jorrdee se joue des codes\, se permettant des éclats de classe comme d’autodérision.\nhttps://soundcloud.com/jorrdee\n\nLutèce\nEntre trap planante et rap atmosphérique\, le duo dépeint un quotidien sombre\, usant d’un flow désabusé et de punchlines addictives. Lutèce\, fleuron de la scène locale\, incarne une nouvelle génération rap.\nhttps://soundcloud.com/lutecemusique \n————————–————————-\nTARIF UNIQUE : 5€ / pass Bizarre ! : gratuit\n————————–————————-\nACCES\n9 rue Louis Jouvet – Vénissieux \nTRANSPORT\nTram T4 arrêt Joliot-Curie\nMétro D arrêt Parilly\nBus 35 arrêt Joliot-Curie / Marcel Sembat\n————————–————————-\nMIAM MIAM\nsur place avec Bis’truck « le bistrot nomade » Food Truck Gourmet l’officiel\n————————–————————-
URL:https://villemorte.fr/agenda/jorrdee-lutece/
LOCATION:Bizarre\, 9 Rue Louis Jouvet\, Vénissieux\, 69200\, France
CATEGORIES:musique live
ATTACH;FMTTYPE=image/jpeg:https://villemorte.fr/wp-content/uploads/2017/09/19477336_719362021568693_4462382610580595084_o.jpg
END:VEVENT
END:VCALENDAR