BEGIN:VCALENDAR
VERSION:2.0
PRODID:-//Ville Morte - ECPv5.12.4//NONSGML v1.0//EN
CALSCALE:GREGORIAN
METHOD:PUBLISH
X-WR-CALNAME:Ville Morte
X-ORIGINAL-URL:https://villemorte.fr
X-WR-CALDESC:évènements pour Ville Morte
BEGIN:VTIMEZONE
TZID:Europe/Paris
BEGIN:DAYLIGHT
TZOFFSETFROM:+0100
TZOFFSETTO:+0200
TZNAME:CEST
DTSTART:20240331T010000
END:DAYLIGHT
BEGIN:STANDARD
TZOFFSETFROM:+0200
TZOFFSETTO:+0100
TZNAME:CET
DTSTART:20241027T010000
END:STANDARD
END:VTIMEZONE
BEGIN:VEVENT
DTSTART;TZID=Europe/Paris:20240529T200000
DTEND;TZID=Europe/Paris:20240529T200000
DTSTAMP:20260420T014532
CREATED:20240414T173349Z
LAST-MODIFIED:20240414T173349Z
UID:24035-1717012800-1717012800@villemorte.fr
SUMMARY:Kælan Mikla + Chelsea Wolfe
DESCRIPTION:Le dernier album de Chelsea Wolfe\, She Reaches Out To She Reaches Out To She\, est une renaissance en cours. Il traite de la façon dont un tel moment est lié à notre passé\, à notre présent et à notre avenir. C’est une déclaration puissamment cathartique sur la coupure des liens\, ainsi qu’un rappel important que la guérison est cyclique et circulaire\, et non un simple processus linéaire. Comme l’explique Wolfe\, « c’est un disque sur le passé qui tend la main au présent qui tend la main au futur pour appeler au changement\, à la croissance et à l’orientation. C’est l’histoire d’une libération de situations et de schémas qui vous retiennent\, afin de devenir autonome. C’est une invitation à entrer dans l’authenticité ».\nUn concert présenté par La SAS Concerts en accord Vedettes\, L’Épicerie Moderne et Le Transbordeur.
URL:https://villemorte.fr/agenda/kaelan-mikla-chelsea-wolfe/
LOCATION:Le Transbordeur\, 3 Boulevard de Stalingrad\, Villeurbanne\, 69100 \, France
CATEGORIES:musique live
END:VEVENT
END:VCALENDAR