BEGIN:VCALENDAR
VERSION:2.0
PRODID:-//Ville Morte - ECPv5.12.4//NONSGML v1.0//EN
CALSCALE:GREGORIAN
METHOD:PUBLISH
X-WR-CALNAME:Ville Morte
X-ORIGINAL-URL:https://villemorte.fr
X-WR-CALDESC:évènements pour Ville Morte
BEGIN:VTIMEZONE
TZID:Europe/Paris
BEGIN:DAYLIGHT
TZOFFSETFROM:+0100
TZOFFSETTO:+0200
TZNAME:CEST
DTSTART:20240331T010000
END:DAYLIGHT
BEGIN:STANDARD
TZOFFSETFROM:+0200
TZOFFSETTO:+0100
TZNAME:CET
DTSTART:20241027T010000
END:STANDARD
END:VTIMEZONE
BEGIN:VEVENT
DTSTART;TZID=Europe/Paris:20241025T173000
DTEND;TZID=Europe/Paris:20241025T173000
DTSTAMP:20260419T170627
CREATED:20240918T114048Z
LAST-MODIFIED:20240918T114048Z
UID:25731-1729877400-1729877400@villemorte.fr
SUMMARY:Kamelot + Ad Infinitum + Blackbriar + Frozen Crown
DESCRIPTION:KAMELOT – Metal Symphonique – États-Unis\n\nKAMELOT voit le jour en 1991 en Floride\, sous l’impulsion du guitariste Thomas Youngblood. Avec un line-up comportant également le vocaliste Tommy Karevik\, le bassiste Sean Tibbetts\, le claviériste Oliver Palotai et le batteur Alex Landenburg\, KAMELOT est l’un des groupes de Metal Symphonique les plus innovants et prestigieux de la scène actuelle. \nKAMELOT a bâti son règne avec la sortie de plusieurs albums de Metal mélodique placés au sommet des classements internationaux tels que ‘The Fourth Legacy’ (1999)\, ‘The Black Halo’ (2005)\, ‘Silverthorn’ (2012)\, ‘Haven’ (2015\, #1 Hard Rock Albums USA) et ‘The Shadow Theory’ (2018\, #2 Hard Music Albums USA). \nLe quintette a sorti en 2023 chez Napalm Records son album le plus introspectif\, inspirant et entraînant à ce jour\, ‘The Awakening’. Treizième album du groupe\, il est entré dans l’héritage de KAMELOT comme son œuvre la plus massive et riche à ce jour\, réunissant les styles gothique\, mélodique\, progressif et Power Metal. \n \n\nAD INFINITUM – Metal Symphonique – Suisse\n\nLe groupe de Metal symphonique moderne AD INFINITUM a été fondé en 2018 par Melissa Bonny. Le batteur Niklas Müller\, le guitariste Adrian Thessenvitz et le bassiste Korbinian Benedict complètent ce quatuor puissant et envoûtant. \nDepuis la sortie de son premier album en 2020\, AD INFINITUM s’est fait remarquer au sein de cette scène grâce à une combinaison habile de riffs lourds et modernes\, d’orchestrations épiques et de mélodies captivantes. \nLe groupe a sorti son troisième album ‘Chapter III – Downfall’ en 2023 chez Napalm Records. Le son unique d’AD INFINITUM a valu au groupe des millions de vues à ce jour sur les vidéos de ses singles tels que « Marching on Versailles »\, « Unstoppable »\, “See You In Hell” et “Upside Down”. \n \n\nBLACKBRIAR – Metal Symphonique et Gothique – Pays-Bas\n\nBLACKBRIAR se distingue par ses mélodies ensorcelantes\, son imagerie Gothic Fantasy et la voix singulière de Zora Cock. Après trois EPs entre 2017 et 2019\, BLACKBRIAR sort son premier album ‘The Cause Of Sphipwreck’ en 2021. Le sextet a signé en 2022 chez Nuclear Blast chez qui est sorti le second album ‘A Dark Euphony’ en septembre 2023. \n \n\nFROZEN CROWN – Power Metal – Italie\n\nAvec un mélange de riffs de guitare rapides\, de mélodies épiques et d’un chant captivant\, FROZEN CROWN a rapidement conquis les fans de Metal Mélodique. Le premier album ‘The Fallen King’ (2018) a été acclamé par la critique\, établissant FROZEN CROWN comme une force montante de la scène du Power Metal. Le groupe a sorti son quatrième album ‘Call of the North’ en 2023 chez Scarlet Records et a récemment signé chez Napalm Records pour poursuivre son ascension.
URL:https://villemorte.fr/agenda/kamelot-ad-infinitum-blackbriar-frozen-crown/
LOCATION:CCO La Rayonne\, 24 rue Alfred de Musset\, VILLEURBANNE\, 69100
CATEGORIES:musique live
END:VEVENT
END:VCALENDAR