BEGIN:VCALENDAR
VERSION:2.0
PRODID:-//Ville Morte - ECPv5.12.4//NONSGML v1.0//EN
CALSCALE:GREGORIAN
METHOD:PUBLISH
X-WR-CALNAME:Ville Morte
X-ORIGINAL-URL:https://villemorte.fr
X-WR-CALDESC:évènements pour Ville Morte
BEGIN:VTIMEZONE
TZID:Europe/Paris
BEGIN:DAYLIGHT
TZOFFSETFROM:+0100
TZOFFSETTO:+0200
TZNAME:CEST
DTSTART:20230326T010000
END:DAYLIGHT
BEGIN:STANDARD
TZOFFSETFROM:+0200
TZOFFSETTO:+0100
TZNAME:CET
DTSTART:20231029T010000
END:STANDARD
END:VTIMEZONE
BEGIN:VEVENT
DTSTART;TZID=Europe/Paris:20231013T190000
DTEND;TZID=Europe/Paris:20231013T190000
DTSTAMP:20260420T033434
CREATED:20230920T103216Z
LAST-MODIFIED:20230920T185625Z
UID:20783-1697223600-1697223600@villemorte.fr
SUMMARY:Karaoké de soutien à l'auto-école autogerée
DESCRIPTION:Karaoké en soutien à l’auto-école autogérée suivie d’une méga boum et cantine vegane!!! \n\nL’auto-école autogérée qu’est-ce que c’est ?\n\nL’asso propose aux personnes qui le souhaitent d’apprendre à conduire sur une voiture à double commande\, avec une personne de leur choix ayant le permis depuis plus de 5 ans\, le tout sans débourser 1000 euros et en expérimentant les joies de l’autogestion ! \nPour nous rejoindre\, tu peux écrire à zerodeconduite@riseup.net\, ou venir à une réunion le 3ème jeudi de chaque mois à l’Amicale du Futur ! \n  \nPrix libre\nPas de CB sur place
URL:https://villemorte.fr/agenda/karaoke-de-soutien-a-lauto-ecole-autogeree/
LOCATION:L’Atelier des Canulars\, 91 rue Montesquieu\, LYON\, 69007
CATEGORIES:bouffe,Karaoké,soirée de soutien
END:VEVENT
END:VCALENDAR