BEGIN:VCALENDAR
VERSION:2.0
PRODID:-//Ville Morte - ECPv5.12.4//NONSGML v1.0//EN
CALSCALE:GREGORIAN
METHOD:PUBLISH
X-WR-CALNAME:Ville Morte
X-ORIGINAL-URL:https://villemorte.fr
X-WR-CALDESC:évènements pour Ville Morte
BEGIN:VTIMEZONE
TZID:Europe/Paris
BEGIN:DAYLIGHT
TZOFFSETFROM:+0100
TZOFFSETTO:+0200
TZNAME:CEST
DTSTART:20190331T010000
END:DAYLIGHT
BEGIN:STANDARD
TZOFFSETFROM:+0200
TZOFFSETTO:+0100
TZNAME:CET
DTSTART:20191027T010000
END:STANDARD
END:VTIMEZONE
BEGIN:VEVENT
DTSTART;VALUE=DATE:20190323
DTEND;VALUE=DATE:20190331
DTSTAMP:20260424T055515
CREATED:20190320T011217Z
LAST-MODIFIED:20190320T011217Z
UID:9108-1553299200-1553990399@villemorte.fr
SUMMARY:KARNAVAL HUMANITAIRE
DESCRIPTION:« Dans la nuit du 23 mars\, un mystérieux vaisseau venu tout droit du fond de l’univers atterrira sur la pelouse des humanités. A son bord ? Une foule de karnacosmonautes venue se prélasser durant une semaine de festivités entre réflexions engagées\, gastronomie locale et bio et soirées endiablées! »\n>> karnaval.fr\n>> https://www.facebook.com/lekarnavalhumanitaire/ \nEn continu\n– STAND PROJET : viens découvrir nos actions au Burkina Faso et l’artisanat fabriqué par des Burkinabés. Nos membres engagés seront ravis de vous raconter leurs voyages\, rencontres et expériences\n– BAR : de gentils bénévoles vous y proposent des menus cuisinés avec amour pour vos ventres affamés et des potions célestes pour vous désaltérer\n– RLK : une petite pause lors des inter-plateaux ? Non ! La fête continue sous ce petit chapiteau de l’autre côté du site\n– STAND SERIGRAPHIE: venez faire imprimer de superbes motifs dessinés par nos soins\, nos peintres en blouse se feront un plaisir de vous montrer le procédé d’impression \nSamedi 23 Mars\nBAL FOLK\nouverture du site à 19h – 4€ (carte VA 3€)\nViens danser la folk\, taper des pieds\, faire des rondes sur des rythmes endiablés ; tu n’as pas encore accordé ton biniou ou ton accordéon? C’est le moment.. Tu n’y connaît rien à la folk? Viens\, ça va être bien. \nDimanche 24 Mars\nJOURNEE CIRQUE ET ARTS DE RUE\nouverture du site à 13h – prix libre\nTu aimes la jongle\, le théâtre\, les spectacles de clown\, le cirque ou simplement l’ambiance d’une après-midi sous le soleil printanier? Cette après-midi est pour toi. \nLundi 25 / Mardi 26 Mars\nFORUM\n12h30-14h et 19h-22h – entrée libre\nDécouvertes et réflexions autour de conférences et ateliers. Viens casser une croûte en écoutant une conf\, ou en lisant un bouquin dans un hamac !\nLes midis et soirs : Conférences et débats. \nEn continu : Stage d’auto construction d’un cuiseur solaire parabolique \nMercredi 27 Mars\nJOURNEE DES ENFANTS SUIVIE DE LA MARMITE\n20h\, grand chapiteau – 3€ ou le prix du dé\nSpectacle pluridisciplinaire : jongle\, musique\, danse\, clowns… Soupe servie à l’entracte! \nJeudi 28 Mars\nDEFILE DEGUISE\nDépart 13h – Arrêt INSA Einstein\nCette année\, des milliers de cosmonautes et d’aliens vont défiler dans les rues de Villeurbanne ! Les enfants des écoles et les étudiants du campus de la Doua vêtiront leur plus belles parures : parcours à travers la ville avec des chars et les enfants déguisés.\nUn grand concours de chars et déguisement est organisé : participez et tentez de gagner un pass 1 soir pour le festival\, ou encore des consos ! \nSOIREE HIP/HOP JAZZ\n20h-1h – 5/6/8€ (avant 22h / VA / non-VA)\nZarzhä – EZPZ \nVendredi 29 Mars\nSOIREE DUB\n20h-2h – 5/6/8€ (avant 22h / VA / non-VA)\nDub Pharaon – The Black Mantis Project – Full Dub \nSamedi 30 mars\nSOIREE FESTIVE\n20h-3h – 5/6/8€ (avant 22h / VA / non-VA)\nDeyosan – Les Diables de la Garrigue – Radio Kaizman
URL:https://villemorte.fr/agenda/karnaval-humanitaire/
LOCATION:Campus de la Doua\, VILLEURBANNE\, 69100
CATEGORIES:boom,conférence,danse,festival,jeune public,musique live,performance,spectacle
END:VEVENT
END:VCALENDAR