BEGIN:VCALENDAR
VERSION:2.0
PRODID:-//Ville Morte - ECPv5.12.4//NONSGML v1.0//EN
CALSCALE:GREGORIAN
METHOD:PUBLISH
X-WR-CALNAME:Ville Morte
X-ORIGINAL-URL:https://villemorte.fr
X-WR-CALDESC:évènements pour Ville Morte
BEGIN:VTIMEZONE
TZID:Europe/Paris
BEGIN:DAYLIGHT
TZOFFSETFROM:+0100
TZOFFSETTO:+0200
TZNAME:CEST
DTSTART:20230326T010000
END:DAYLIGHT
BEGIN:STANDARD
TZOFFSETFROM:+0200
TZOFFSETTO:+0100
TZNAME:CET
DTSTART:20231029T010000
END:STANDARD
END:VTIMEZONE
BEGIN:VEVENT
DTSTART;TZID=Europe/Paris:20231221T190000
DTEND;TZID=Europe/Paris:20231221T190000
DTSTAMP:20260419T160115
CREATED:20231208T001736Z
LAST-MODIFIED:20231208T001736Z
UID:21917-1703185200-1703185200@villemorte.fr
SUMMARY:La crie mal
DESCRIPTION:Le Jeudi 21 y a La crie mal\, une Soirée poétique queer fem militant.ex ! – 19h ouverture au public\, Prix libre\, conseillé 8€\nSoirée poétique queer fem militant.e : programmation d’artistes locaux annoncée bientôt puis un temps d’open mic ouvert à toustes avec un temps de conversation/retour pour celleux qui le veulent.
URL:https://villemorte.fr/agenda/la-crie-mal/
LOCATION:Le Croiseur\, 4 ure Croix-Barret\, LYON\, 69007
CATEGORIES:discussion,open-mic,poésie
END:VEVENT
END:VCALENDAR