BEGIN:VCALENDAR
VERSION:2.0
PRODID:-//Ville Morte - ECPv5.12.4//NONSGML v1.0//EN
CALSCALE:GREGORIAN
METHOD:PUBLISH
X-WR-CALNAME:Ville Morte
X-ORIGINAL-URL:https://villemorte.fr
X-WR-CALDESC:évènements pour Ville Morte
BEGIN:VTIMEZONE
TZID:Europe/Paris
BEGIN:DAYLIGHT
TZOFFSETFROM:+0100
TZOFFSETTO:+0200
TZNAME:CEST
DTSTART:20240331T010000
END:DAYLIGHT
BEGIN:STANDARD
TZOFFSETFROM:+0200
TZOFFSETTO:+0100
TZNAME:CET
DTSTART:20241027T010000
END:STANDARD
END:VTIMEZONE
BEGIN:VEVENT
DTSTART;TZID=Europe/Paris:20240305T140000
DTEND;TZID=Europe/Paris:20240305T170000
DTSTAMP:20260420T033658
CREATED:20240218T125314Z
LAST-MODIFIED:20240218T125314Z
UID:23155-1709647200-1709658000@villemorte.fr
SUMMARY: La femme s’accorde au masculin
DESCRIPTION:« Tous et toutes uni.e.s pour l’égalité »\, tout est gratuit :\nMARS – AVRIL\nExposition Assistante maternelle – Centre Social de Semailles\nDes femmes qui accompagnent les enfants qui feront le monde de demain. Ces photographies sont la finalité d’un travail\, d’espression sur soi\, sur son corps\, sur son image et sa vie. Visite pendant les horaires d’ouverture.\n\nMARDI 5 MARS\n La femme s’accorde au masculin – 14h – MJC\nConférence gesticulée // Cie l’Un-femme. Un spectacle à la fois drôle\, percutant autour de l’égalité. – À partir de 14 ans // Sur inscription\n\nMERCREDI 6 MARS\nCriée : Tendez l’oreille ! – 9h30 – Marché des Alagniers\nD’après une récolte de témoignages d’habitantes « être une femme à Rillieux-la-Pape ». Suivi d’un débat aux abords du marché avec Anais Viand\, journaliste du Club de la Presse.\nReines d’Afrique\, résistantes et femmes de combat – 16h – MJC\nExpo photos « Reines d’hier et d’aujourd’hui » / 16h peinture et goûter / 17h contes à partir de 7 ans / À partir de 18h apréitif\, scénettes de Reines puis conférence-débat avec Sylvia Serbin\, autrice de « Reines d’Afrique et héroines de la diaspora noire. » // Sur inscription\n\nJEUDI 7 MARS\nPortraits de femmes – 14h – MJC\nAtelier créatif pour réaliser des portraits de femmes qui seront accrochés le 8 mars\, dans l’espace public. D’autres ateliers peuvent être organisés pour les groupes sur demande. // Sur inscription\n\nVENDREDI 8 MARS\nTemps convivial – 18h – Centre social des Semailles\nSuivi d’une déambulation pour se rendre à la MJC.\nQuand les femmes font danser le monde – 20h – MJC\nSoirée dansante avec DJ Wonderbraz. On vous attends nombreux et nombreuses ! En partenariat avec Au Tambour. // Sur inscription\n\nMARDI 12 MARS\nCafé culture – 14h – MJC\n« Jouons la carte de la solidarité » en écrivant un message positif qui sera ensuite distribué le 21 mars au hasard aux rilliard.e.s. Un petit rien qui peut faire parfois beaucoup ! // Sur inscription\n\nMERCREDI 13 MARS \nVadrouille et Vous – 15h – MJC\nCollectif À quoi Serge ? – Spectacle Jeune Public\nCléophée entame un voyage à travers l’univers\, faisant escale sur chacune des planètes\, iel fait la rencontre de peuples et de cultures différentes. Iel sera alors confronté.e au partage\, aux rencontres mais découvrira aussi la discrimination et l’exclusion. – À partir de 6 ans // Sur inscription\n\nMARDI 19.03\nVernissage Objet de famille – 18h – MJC\nQuand les objets de famille se transforment en oeuvres d’art\, témoins de la richesse de la transmission et de la mémoire.\n\nMERCREDI 20 MARS\nL’Abbé Pierre\, une vie de combat – Ciné Rillieux\nRévolté par la misère et les injustices\, souvent critiqué\, parfois trahi\, Henri Grouès a eu mille vies et a mené mille combats. Il a marqué l’histoire sous le nom qu’il s’était choisi : l’Abbé Pierre.\n\nMERCREDI 27 MARS\nCloture – 17h – MJC\nDécouvrez les incontournables de la scène du stand-up lyonnais avec Bamba. // Sur inscription\n\nPlus d’infos sur : https://www.mjcrillieux.com/index.php/tous-et-toutes-uni-e-s-pour-legalite/
URL:https://villemorte.fr/agenda/la-femme-saccorde-au-masculin/
LOCATION:MJC Ô Totem\, 9 avenue Général Leclerc\, Rillieux\, 69140
CATEGORIES:conférence
END:VEVENT
END:VCALENDAR