BEGIN:VCALENDAR
VERSION:2.0
PRODID:-//Ville Morte - ECPv5.12.4//NONSGML v1.0//EN
CALSCALE:GREGORIAN
METHOD:PUBLISH
X-WR-CALNAME:Ville Morte
X-ORIGINAL-URL:https://villemorte.fr
X-WR-CALDESC:évènements pour Ville Morte
BEGIN:VTIMEZONE
TZID:Europe/Paris
BEGIN:DAYLIGHT
TZOFFSETFROM:+0100
TZOFFSETTO:+0200
TZNAME:CEST
DTSTART:20190331T010000
END:DAYLIGHT
BEGIN:STANDARD
TZOFFSETFROM:+0200
TZOFFSETTO:+0100
TZNAME:CET
DTSTART:20191027T010000
END:STANDARD
END:VTIMEZONE
BEGIN:VEVENT
DTSTART;TZID=Europe/Paris:20190426T200000
DTEND;TZID=Europe/Paris:20190426T200000
DTSTAMP:20260422T055420
CREATED:20190424T105605Z
LAST-MODIFIED:20190424T105605Z
UID:9214-1556308800-1556308800@villemorte.fr
SUMMARY:La Manita / Le Fond 2'la Classe
DESCRIPTION:Soirée rap au Nid de Poule ce vendredi 26 avril : \n \n– LA MANITA (Rap – Lyon) \nAprès des nuits d’ivresse à cracher Anfalsh aux oreilles des shrabs\, ils ont décidé d’en faire. Leur rap\, c’est Attila avec le regard de Dalida. Mais non\, panique pas\, ici c’est juste la Manita ! \nhttps://www.facebook.com/pg/Collectif-La-Manita-384866868525232/videos/?ref=page_internal\nhttps://collectiflamanita.bandcamp.com/ \n– LE FOND D’LA CLASSE (Rap – Drôme) \nNée d’ une amitié entre différents artistes venus d’horizons très divers\, Le Fond d’la Classe est un groupe de rap drômois directement inspiré par le « boom-bap » des années fin 90′.\nRiches de leurs différents parcours\, cette bande de potes aux plumes et aux flows variés\, nous invite à découvrir leurs visions du monde au travers de textes poétiques\, humanistes et engagés. Simples passionnés bien loin des préoccupations du « rap game »\, c’est avec talent et sincérité qu’ils nous délivrent un rap qui leur ressemble\, développant une énergie fédératrice qu’ils aiment partager avec le public.\nLe plus souvent ils sont accompagnés de CROWN\, DJ et beatmaker\, issu du collectif Grim Reaperz dont le nom doit sûrement sembler familier aux amateurs de la scène underground francophone.\nEn bref\, Le Fond d’ la Classe c’est avant tout la démonstration d’une aventure humaine qu’ils partagent avec passion et bonne humeur et qui mérite d’être découverte sur scène. \nhttps://www.youtube.com/watch?v=nrTOhgKpJW8\nhttps://www.youtube.com/watch?v=vOe7crZeOJs\nhttps://www.facebook.com/lefond2laclasse/ \n+ Open mic +/- long en fonction du temps qu’il reste. \nOn vous attend nombreux.ses ! \nOuverture des portes 19h30\, début des concerts 20h30\nLe Nid de Poule\, 17 rue Royale\, 69001
URL:https://villemorte.fr/agenda/la-manita-le-fond-2la-classe/
LOCATION:Le Nid De Poule\, 17 Rue Royale\,\, Lyon\, 69001\, France
CATEGORIES:musique live
END:VEVENT
END:VCALENDAR