BEGIN:VCALENDAR
VERSION:2.0
PRODID:-//Ville Morte - ECPv5.12.4//NONSGML v1.0//EN
CALSCALE:GREGORIAN
METHOD:PUBLISH
X-WR-CALNAME:Ville Morte
X-ORIGINAL-URL:https://villemorte.fr
X-WR-CALDESC:évènements pour Ville Morte
BEGIN:VTIMEZONE
TZID:Europe/Paris
BEGIN:DAYLIGHT
TZOFFSETFROM:+0100
TZOFFSETTO:+0200
TZNAME:CEST
DTSTART:20240331T010000
END:DAYLIGHT
BEGIN:STANDARD
TZOFFSETFROM:+0200
TZOFFSETTO:+0100
TZNAME:CET
DTSTART:20241027T010000
END:STANDARD
END:VTIMEZONE
BEGIN:VEVENT
DTSTART;TZID=Europe/Paris:20240914T160000
DTEND;TZID=Europe/Paris:20240914T160000
DTSTAMP:20260419T180225
CREATED:20240821T173806Z
LAST-MODIFIED:20240827T152505Z
UID:25315-1726329600-1726329600@villemorte.fr
SUMMARY:La nuit croix-roussienne à Truffaut
DESCRIPTION:📽️ Projections en plein air + Animations + Ateliers\n✨ Événement gratuit et ouvert à toutes et tous\, dans l’ancien collège François Truffaut\, au 10 montée des Carmélites (entrée par Pilo)\, Lyon 1. \n_____ \n🌙 Venez participer à La nuit croix-roussienne à Truffaut : projections de films en plein air\, ateliers de tournage\, initiation au doublage et diverses animations autour du cinéma vous y attendent !\n🍿 Une buvette et une petite restauration en continu vous seront proposées sur place\, dont les bénéfices seront au profit du club ados de la Ka’fête Ô Mômes.\n🧺 Pour votre confort\, n’hésitez pas à apporter vos plaids et vos coussins !\n🤩 À partir de 16h seront proposées gratuitement des animations ouvertes à toutes et tous !\n📣 Demandez le programme :\n📌 DE 16H À 18H : Ateliers doublage et tournage de séquences cultes par l’Aquarium ciné-café et atelier marionnettes par le Lavoir Public\n📌 À 17H30 : Atelier projection de films en 16 mm par CinéMioches\n📌 DE 18H À 19H : Projection jeune public avec CinéMioches\n📌 DE 19H15 À 19H45 : Quizz cinéma par l’Aquarium ciné-café\, avec des cadeaux à gagner !\n📌 DE 20H À 20H45 : Projection de trois courts-métrages proposés par CinéMioches\, la Ka’fête Ô Mômes et l’artiste vidéaste Jean-Baptiste Perret\n📌 À 21H : Projection en plein air du film Good Morning England (2009) de Richard Curtis \n_____ \n🎟️ Billetterie : GRATUIT ET OUVERT À TOUS·TES !\n🤝 Événement organisé par la Mairie du 1er arrondissement de Lyon\, Le Conseil de quartier Haut et Coeur des Pentes\, le Lavoir Public\, CinéMioches\, la Ka’fête Ô Mômes et l’Aquarium ciné-café
URL:https://villemorte.fr/agenda/la-nuit-croix-roussienne-a-truffaut/
LOCATION:10 montée des Carmélites\, 10 montée des Carmélites\, Lyon\, 69001
CATEGORIES:atelier,plein air,projection
ATTACH;FMTTYPE=image/jpeg:https://villemorte.fr/wp-content/uploads/2024/08/453041099_908248271345542_1478350305401528560_n.jpg
END:VEVENT
END:VCALENDAR