BEGIN:VCALENDAR
VERSION:2.0
PRODID:-//Ville Morte - ECPv5.12.4//NONSGML v1.0//EN
CALSCALE:GREGORIAN
METHOD:PUBLISH
X-WR-CALNAME:Ville Morte
X-ORIGINAL-URL:https://villemorte.fr
X-WR-CALDESC:évènements pour Ville Morte
BEGIN:VTIMEZONE
TZID:Europe/Paris
BEGIN:DAYLIGHT
TZOFFSETFROM:+0100
TZOFFSETTO:+0200
TZNAME:CEST
DTSTART:20190331T010000
END:DAYLIGHT
BEGIN:STANDARD
TZOFFSETFROM:+0200
TZOFFSETTO:+0100
TZNAME:CET
DTSTART:20191027T010000
END:STANDARD
END:VTIMEZONE
BEGIN:VEVENT
DTSTART;VALUE=DATE:20190503
DTEND;VALUE=DATE:20190505
DTSTAMP:20260425T181836
CREATED:20190424T110502Z
LAST-MODIFIED:20190424T110502Z
UID:9219-1556841600-1557014399@villemorte.fr
SUMMARY:"La Saint Marcel" avec la fanfare Marcel Frontale
DESCRIPTION:• La fanfare du Périscope Marcel Frontale vous propose une nouvelle édition de son festival « La Saint Marcel ». Au Programme\, 12 fanfares invitées\, plus de 100 musiciens et musiciennes\, des ateliers\, des concerts et des déambulations ! \nVen.03/05 | Jour 1 ► 2 fanfares ! 8 groupes ! 6 bars ! 3 quartiers ! \nDès 18h\, trois circuits organisés dans les quartiers Guillotière\, Croix – Rousse et Perrache pour retrouver les fanfares en bas de chez vous ! Au programme : \nCours Suchet\nLe Platypus – 18h30 : Collectif Roger (fanfare musclée au muscadet)\nLe Point Nommé – 21h : Junior Volaille (trio rock déjanté) \nLa Guillotière\nLe Court-Circuit – 18h30 : Les Velcros (Brass Band survitaminé)\nL’autre Côté du Pont – 20h : Matabiche (vintage rock and smiling soul)\nLes Clameurs – 21h30 : Deep Dip Wet Wave (surf rock) \nPentes de Croix-Rousse\nPlace Sathonay – 19h00 : Ethnofanfare & Maracatu Casamarela (do Brasil…)\nLa Grooverie – 20h30 : Kompa Doudou Chéri (solèy : cho ! mizik : cho !)\nL’Atmo – 22h : Relaxation corporelle non guidée (convivialité de mise) \nSam. 04/05 | Jour 2 ► Parade festive et participative ! \nVenez passer l’après midi sur les bordes de la Saône dans le quartier Confluence\, avec des ateliers pour les enfants\, des répétitions ouvertes et animations à la MJC Confluence\, ainsi qu’une déambulation dans tout le quartier avant une soirée de clotûre en beauté ! \nMJC Confluence\, Quai Rambaud\, Lyon 2ème\nDe 14h à 16h : Maquillage\, Danse\, Répétition ouverte au public (chants et instruments) + Concerts\nDe 16h à 18h : Grande parade participative en fanfare : voyage carnavalesque en Nouvelle Orléans ! \nPéniche Le Fargo\, Quai de Rhône\, Lyon 2ème\n19h – 01h : Soirée psychoactive électro-stimulante grâce à l’énergie cuivrée de … LGMX !\nPremière partie : Mammouth Brass Band (Paris)\, Beat Cheese (Bordeaux)\, Brakadonf (Romans) \net le tout à prix libre ! \nla page du festival\, sur le site du Périscope : http://www.periscope-lyon.com/_5816\nle Facebouk de Marcel Frontale : https://www.facebook.com/MarcelFrontale/
URL:https://villemorte.fr/agenda/la-saint-marcel-avec-la-fanfare-marcel-frontale/
CATEGORIES:festival,musique live
END:VEVENT
END:VCALENDAR