BEGIN:VCALENDAR
VERSION:2.0
PRODID:-//Ville Morte - ECPv5.12.4//NONSGML v1.0//EN
CALSCALE:GREGORIAN
METHOD:PUBLISH
X-WR-CALNAME:Ville Morte
X-ORIGINAL-URL:https://villemorte.fr
X-WR-CALDESC:évènements pour Ville Morte
BEGIN:VTIMEZONE
TZID:Europe/Paris
BEGIN:DAYLIGHT
TZOFFSETFROM:+0100
TZOFFSETTO:+0200
TZNAME:CEST
DTSTART:20190331T010000
END:DAYLIGHT
BEGIN:STANDARD
TZOFFSETFROM:+0200
TZOFFSETTO:+0100
TZNAME:CET
DTSTART:20191027T010000
END:STANDARD
END:VTIMEZONE
BEGIN:VEVENT
DTSTART;TZID=Europe/Paris:20190525T200000
DTEND;TZID=Europe/Paris:20190525T210000
DTSTAMP:20260426T050234
CREATED:20190516T121532Z
LAST-MODIFIED:20190516T121532Z
UID:9541-1558814400-1558818000@villemorte.fr
SUMMARY:Lancement du DVD Diesel
DESCRIPTION:S25: Lancement du  \nDVD Diesel \nfilm documentaire scène punk rock 2000  \npar David Basso \nprojection du film au TECHNOIR à 20H \nconcerts au TROKSON à 21H30 \nTRINT EASTWOOD & MIKE NOEGRAF \nfolk punk
URL:https://villemorte.fr/agenda/lancement-du-dvd-diesel/
LOCATION:Trokson\, 110 Montée de la grande côte\, Lyon\, 69001\, France
CATEGORIES:musique live,projection
END:VEVENT
END:VCALENDAR