BEGIN:VCALENDAR
VERSION:2.0
PRODID:-//Ville Morte - ECPv5.12.4//NONSGML v1.0//EN
CALSCALE:GREGORIAN
METHOD:PUBLISH
X-WR-CALNAME:Ville Morte
X-ORIGINAL-URL:https://villemorte.fr
X-WR-CALDESC:évènements pour Ville Morte
BEGIN:VTIMEZONE
TZID:Europe/Paris
BEGIN:DAYLIGHT
TZOFFSETFROM:+0100
TZOFFSETTO:+0200
TZNAME:CEST
DTSTART:20220327T010000
END:DAYLIGHT
BEGIN:STANDARD
TZOFFSETFROM:+0200
TZOFFSETTO:+0100
TZNAME:CET
DTSTART:20221030T010000
END:STANDARD
END:VTIMEZONE
BEGIN:VEVENT
DTSTART;TZID=Europe/Paris:20220324T180000
DTEND;TZID=Europe/Paris:20220324T230000
DTSTAMP:20260419T142206
CREATED:20220323T112349Z
LAST-MODIFIED:20220323T112349Z
UID:15304-1648144800-1648162800@villemorte.fr
SUMMARY:Le Bistro Zero rouvre ses portes
DESCRIPTION:Manger pas cher et bien\, c’est politique\, écouter des vinyles\, papoter\, danser\, boire des coups…aussi !!!\nDes potes aux platines\, mais tu peux t’incruste avec tes vinyles\, y aura toujours de la place !\nService aux petits oignons et ambiance guinguette \nAu menu:\nFromage frais de cajou fermenté aux herbes\nHoumous de betterave aux cranberries\nSoupe froide de chou-fleur\nBoulettes de haricots rouges aux champignons\nPolenta aux herbes\, légumes rôtis et sauce à l’oseille\nRochers coco au chocolat\nAmi.e végétarien.ne\, vegan\, ou ayant banni le gluten de ton alimentation\, viens te sustenter sans crainte de crever la dhal!!
URL:https://villemorte.fr/agenda/le-bistro-zero-rouvre-ses-portes/
LOCATION:Grrrnd Zero\, 60\, avenue de Bohlen\, Vaulx en Velin\, 69120
CATEGORIES:bouffe
END:VEVENT
END:VCALENDAR