BEGIN:VCALENDAR
VERSION:2.0
PRODID:-//Ville Morte - ECPv5.12.4//NONSGML v1.0//EN
CALSCALE:GREGORIAN
METHOD:PUBLISH
X-WR-CALNAME:Ville Morte
X-ORIGINAL-URL:https://villemorte.fr
X-WR-CALDESC:évènements pour Ville Morte
BEGIN:VTIMEZONE
TZID:Europe/Paris
BEGIN:DAYLIGHT
TZOFFSETFROM:+0100
TZOFFSETTO:+0200
TZNAME:CEST
DTSTART:20180325T010000
END:DAYLIGHT
BEGIN:STANDARD
TZOFFSETFROM:+0200
TZOFFSETTO:+0100
TZNAME:CET
DTSTART:20181028T010000
END:STANDARD
END:VTIMEZONE
BEGIN:VEVENT
DTSTART;TZID=Europe/Paris:20181130T200000
DTEND;TZID=Europe/Paris:20181130T200000
DTSTAMP:20260420T004452
CREATED:20181021T205039Z
LAST-MODIFIED:20181021T205039Z
UID:7432-1543608000-1543608000@villemorte.fr
SUMMARY:Le Cabaret qui n'aura surement pas lieu
DESCRIPTION:@ L’Atelier des Canulars \n 
URL:https://villemorte.fr/agenda/le-cabaret-qui-naura-surement-pas-lieu/
LOCATION:L’Atelier des Canulars\, 91 rue Montesquieu\, LYON\, 69007
CATEGORIES:musique live
END:VEVENT
END:VCALENDAR