BEGIN:VCALENDAR
VERSION:2.0
PRODID:-//Ville Morte - ECPv5.12.4//NONSGML v1.0//EN
CALSCALE:GREGORIAN
METHOD:PUBLISH
X-WR-CALNAME:Ville Morte
X-ORIGINAL-URL:https://villemorte.fr
X-WR-CALDESC:évènements pour Ville Morte
BEGIN:VTIMEZONE
TZID:Europe/Paris
BEGIN:DAYLIGHT
TZOFFSETFROM:+0100
TZOFFSETTO:+0200
TZNAME:CEST
DTSTART:20190331T010000
END:DAYLIGHT
BEGIN:STANDARD
TZOFFSETFROM:+0200
TZOFFSETTO:+0100
TZNAME:CET
DTSTART:20191027T010000
END:STANDARD
END:VTIMEZONE
BEGIN:VEVENT
DTSTART;TZID=Europe/Paris:20191219T203000
DTEND;TZID=Europe/Paris:20191219T203000
DTSTAMP:20260423T092650
CREATED:20191210T135055Z
LAST-MODIFIED:20191210T135055Z
UID:11522-1576787400-1576787400@villemorte.fr
SUMMARY:Le corps des femmes / Conférence gesticulée
DESCRIPTION:Le corps des femmes ou une autre histoire des agrumes\nDurée 1h25 \n« Mon corps\, mon choix »\, « Ne me libère pas\, je m’en charge »\, « Mon corps m’appartient ». Différents slogans sur l’émancipation des femmes face aux injonctions sociétales portées sur leurs corps\, nos corps. Mais qu’en est-il vraiment ? Notre corps nous appartient-il vraiment ? Partons donc de l’enfance pour nous arrêter à différentes étapes de la vie du corps des femmes et comprendre ce qu’il se joue socialement et politiquement. Et concernant les agrumes\, vous comprendrez bien assez vite quand vous viendrez. \n———————- \nConférence gesticulée\, mais qu’est-ce que c’est ? \nUn mélange entre théâtre et conférence\, le partage d’expériences vécues et de connaissances théoriques.\nComprendre notre monde pour agir dessus et s’armer contre les rapports de domination auxquels nous sommes confronté.e.s ! \n———————-\nPrix Libre + 2€ Adh \n« Rq. Le prix libre me permet de rembourser ma formation et d’investir dans du matériel pour améliorer la conf’.\nMerci d’avance pour votre soutien ! »
URL:https://villemorte.fr/agenda/le-corps-des-femmes-conference-gesticulee/
LOCATION:Kraspek Myzik\, 20 Montée Saint Sébastien\, Lyon\, 69001\, France
CATEGORIES:conférence,théâtre
END:VEVENT
END:VCALENDAR