BEGIN:VCALENDAR
VERSION:2.0
PRODID:-//Ville Morte - ECPv5.12.4//NONSGML v1.0//EN
CALSCALE:GREGORIAN
METHOD:PUBLISH
X-WR-CALNAME:Ville Morte
X-ORIGINAL-URL:https://villemorte.fr
X-WR-CALDESC:évènements pour Ville Morte
BEGIN:VTIMEZONE
TZID:Europe/Paris
BEGIN:DAYLIGHT
TZOFFSETFROM:+0100
TZOFFSETTO:+0200
TZNAME:CEST
DTSTART:20220327T010000
END:DAYLIGHT
BEGIN:STANDARD
TZOFFSETFROM:+0200
TZOFFSETTO:+0100
TZNAME:CET
DTSTART:20221030T010000
END:STANDARD
END:VTIMEZONE
BEGIN:VEVENT
DTSTART;TZID=Europe/Paris:20221006T193000
DTEND;TZID=Europe/Paris:20221006T193000
DTSTAMP:20260426T054543
CREATED:20220809T114413Z
LAST-MODIFIED:20220809T114413Z
UID:16342-1665084600-1665084600@villemorte.fr
SUMMARY:LE RÉPARATEUR + POÉSIE ZÉRO + THE SCANERS
DESCRIPTION:Pour fêter la sortie de son nouvel album « SUPER\, MERCI » Le Réparateur invite Poésie Zéro et The Scaners à venir retourner avec eux le Club Transbo ! \nLe Réparateur (punk-rock) \nAprès six longues années à écumer les bordels en quête d’inspiration\, le Réparateur sort enfin un nouvel album !\nLe duo revient à Lyon pour déballer ses 14 titres plus rapides et plus énervés que jamais. \n  \nPoésie Zéro (punk-rock) \nC’est un Punk très en colère\, (et stupide) accompagné de deux employés « quasi musiciens » bénévoles proches du licenciement à chaque concert. Le groupe a sorti cinq albums plus ou moins Bleu (tous les clichés du punk y passent)\, un paquet de clips plus ou moins diffusés\, et pour couronner le tout\, le « groupe » fait tout pour que la Fédération Internationale de Poésie Zéro se propage sur toute la terre afin qu’il y ait des Poésie Zéro dans toutes les villes du monde et qu’ils arrêtent définitivement les concerts. \n  \nThe Scaners (synth-punk) \nPunk 2077\, Supersonic gonzo-synth punk – Intergalactic swirling garage rock’n roll spaceship – Soundtrack for UFO pilots and weird aliens.
URL:https://villemorte.fr/agenda/le-reparateur-poesie-zero-the-scaners/
LOCATION:Club Transbo\, 3 Boulevard de Stalingrad\, Villeurbanne\, 69100\, France
CATEGORIES:musique live,release party
END:VEVENT
END:VCALENDAR