BEGIN:VCALENDAR
VERSION:2.0
PRODID:-//Ville Morte - ECPv5.12.4//NONSGML v1.0//EN
CALSCALE:GREGORIAN
METHOD:PUBLISH
X-WR-CALNAME:Ville Morte
X-ORIGINAL-URL:https://villemorte.fr
X-WR-CALDESC:évènements pour Ville Morte
BEGIN:VTIMEZONE
TZID:Europe/Paris
BEGIN:DAYLIGHT
TZOFFSETFROM:+0100
TZOFFSETTO:+0200
TZNAME:CEST
DTSTART:20240331T010000
END:DAYLIGHT
BEGIN:STANDARD
TZOFFSETFROM:+0200
TZOFFSETTO:+0100
TZNAME:CET
DTSTART:20241027T010000
END:STANDARD
END:VTIMEZONE
BEGIN:VEVENT
DTSTART;TZID=Europe/Paris:20240615T200000
DTEND;TZID=Europe/Paris:20240615T200000
DTSTAMP:20260422T213112
CREATED:20240519T105356Z
LAST-MODIFIED:20240519T105356Z
UID:24651-1718481600-1718481600@villemorte.fr
SUMMARY:Le Show’dron d’Alienor
DESCRIPTION:Hell’O humans ! \nL’été vous semble interminable ? Vous cherchez comment survivre au réchauffement climatique ? Mauvaise nouvelle : vous risquez de tous y passer. Mais « Who cares ?! » c’est le TROISIÈME SHOW’DRON 💛 \nComment ça « kececé le Show’dron » ? C’est évidemment l’événement que vous attendiez sans le savoir ! \nVenez voir deux artistes drag se battre toutes griffes dehors pour remporter le titre d’Enchateuresse de la saison ! Au travers de 4 manches de jeux\, chaque artiste aura besoin de VOUS pour gagner ce jeu de culture générale sur ce nouveau thème enchanteur : Énigmes Féeriques ✨🧚🏼‍♂️ *whaou* \n💚 Les Apprentis 💛\n💚 Ariaphrodisiac \nLa star de la pop du royaume des fées fait son entrée à la boulange ! Armée de son micro et de son talent\, elle va sauver le monde des impitoyables trix !\n💛 Tanzine \nSon enchantix est sur fond de Abba et sa poussière de fée illumine les dance floors ! Elle va mettre des paillettes à la boulange !\n💚 Votre Host\, Alienor Wicker \nElle est le W des W.I.T.C.H\, mais aussi le I\, le T\, le C et le H… Votre hôtesse déploie ses ailes d’argent pour vous émerveiller une nouvelle fois ! \nPrix libre conseillé 7€ afin de rémunérer les artistes pour leur travail !
URL:https://villemorte.fr/agenda/le-showdron-dalienor/
LOCATION:La Boulangerie du Prado\, 69 Rue Sébastien Gryphe\, Lyon\, 69007\, France
CATEGORIES:Dragshow
END:VEVENT
END:VCALENDAR