BEGIN:VCALENDAR
VERSION:2.0
PRODID:-//Ville Morte - ECPv5.12.4//NONSGML v1.0//EN
CALSCALE:GREGORIAN
METHOD:PUBLISH
X-WR-CALNAME:Ville Morte
X-ORIGINAL-URL:https://villemorte.fr
X-WR-CALDESC:évènements pour Ville Morte
BEGIN:VTIMEZONE
TZID:Europe/Paris
BEGIN:DAYLIGHT
TZOFFSETFROM:+0100
TZOFFSETTO:+0200
TZNAME:CEST
DTSTART:20190331T010000
END:DAYLIGHT
BEGIN:STANDARD
TZOFFSETFROM:+0200
TZOFFSETTO:+0100
TZNAME:CET
DTSTART:20191027T010000
END:STANDARD
END:VTIMEZONE
BEGIN:VEVENT
DTSTART;TZID=Europe/Paris:20190426T190000
DTEND;TZID=Europe/Paris:20190426T190000
DTSTAMP:20260422T040347
CREATED:20190426T080346Z
LAST-MODIFIED:20190426T080346Z
UID:9366-1556305200-1556305200@villemorte.fr
SUMMARY:Le syndicalisme et les travailleuses.eurs sans papiers
DESCRIPTION:Dans le cadre du festival Printemps Libertaire\, nous proposons de nous retrouver pour discuter du syndicalisme et des travailleuses et travailleurs sans papiers\, en compagnie de camarades impliqué.e.s dans cette lutte. \nNos camarades qui travaillent sans papiers participent de fait à l’économie du pays et créent des richesses comme tous les travailleurs. Malgré cela\, leur place sur le territoire national est constamment remise en cause et leurs droits au travail presque toujours bafoués. Les patrons les utilisent comme une main d’œuvre corvéable à merci et l’État les menace toujours d’expulsion. \nLa régularisation par le travail représente une des voies possibles de régularisation en France\, et les syndicats ouvriers ont montré\, à travers leur histoire et leurs principes\, qu’ils pouvaient être un allié de taille dans cette voie. \nRendez-vous le vendredi 26 avril à 19h au local de la CNT-SO !\n8 rue Paul Lafargue\, 69100 VILLEURBANNE (Métro Gratte-Ciel)
URL:https://villemorte.fr/agenda/le-syndicalisme-et-les-travailleuses-eurs-sans-papiers/
LOCATION:CNT-SO Villeurbanne\, 8 Rue Paul Lafargue\, Villeurbanne\, 69100
CATEGORIES:débat
END:VEVENT
END:VCALENDAR