BEGIN:VCALENDAR
VERSION:2.0
PRODID:-//Ville Morte - ECPv5.12.4//NONSGML v1.0//EN
CALSCALE:GREGORIAN
METHOD:PUBLISH
X-WR-CALNAME:Ville Morte
X-ORIGINAL-URL:https://villemorte.fr
X-WR-CALDESC:évènements pour Ville Morte
BEGIN:VTIMEZONE
TZID:Europe/Paris
BEGIN:DAYLIGHT
TZOFFSETFROM:+0100
TZOFFSETTO:+0200
TZNAME:CEST
DTSTART:20190331T010000
END:DAYLIGHT
BEGIN:STANDARD
TZOFFSETFROM:+0200
TZOFFSETTO:+0100
TZNAME:CET
DTSTART:20191027T010000
END:STANDARD
END:VTIMEZONE
BEGIN:VEVENT
DTSTART;TZID=Europe/Paris:20190503T190000
DTEND;TZID=Europe/Paris:20190503T190000
DTSTAMP:20260425T195302
CREATED:20190426T091621Z
LAST-MODIFIED:20190426T092228Z
UID:9397-1556910000-1556910000@villemorte.fr
SUMMARY:ROCKY CONTROLO / ROLAND CRISTAL / GRÉGOIRE BRUNO
DESCRIPTION:Soiré Linge records au BⅠMBO \nVENEZ DANSER! \nRoland Cristal et Rocky Controlo en tournée avec Grégoire Bruno en guest \nROLAND CRISTAL :\nhttps://soundcloud.com/roland-cristal\nhttps://www.youtube.com/watch?v=XPOzvPxtb_c\nRoland Cristal\, un projet techno au BPM élevé\, hyper minimaliste et euphorique\, avec un feeling assez bucolique\, un gars qui n’a pour seul intention que de sautiller sur place en délivrant quelques rares paroles bien choisies\, notamment une inoubliable et complexe sur le paiement sans contact. Cet été il jouera au festival de Dour\, invité par Salut C’est Cool\, et c’est aussi le claviériste de Kevin Colin And The Crazy Antonins (Toulouse). \nROCKY CONTROLO\nhttp://rockycontrolo.weebly.com/\nhttps://linge.bandcamp.com/album/rocky-controlo-r-s-a-rythmes-s-v-rement-addictifs-lp-linge084\nRocky Controlo (un boys band Nîmois gardois bien accentué\, signé sur Linge Records\, entre Ministry\, Aviici\, 2Unlimited et Happy Mondays mais qui traitent de la CAF et des centres d’art)\, une sorte de variété electro et conceptuelle avec chansons rentre-dedans. Ils ont déjà collaboré avec le Théréministe de Radiohead Claude Samuel Lévine\, ainsi que Baptiste Brunello\, se produisent souvent dans des galeries\, centres d’art et centre dramatiques\, et se produiront cette année au festival TINALS\, avec des morceaux comme « Enfermé dans le Gard (avec comme seul revenu : le RSA) »… \nGRÉGOIRE BRUNO\nhttps://gregoirebruno.bandcamp.com/\nGrégoire Bruno\, 24 ans. Il aime le post-punk\, la musique électronique et les synthés pas cher. Il a peur du travail et d’avoir le coeur brisé. Ses morceaux parlent de Cannes\, de l’hiver et du vin rouge dans les vernissages. \n19H\n5EUR
URL:https://villemorte.fr/agenda/le-turbo-maximum-rsa-tour-la-tournee-de-roland-et-rocky/
LOCATION:BIMBO\, 60 rue Salomon Reinach\, LYON\, 69007
CATEGORIES:musique live
END:VEVENT
END:VCALENDAR