BEGIN:VCALENDAR
VERSION:2.0
PRODID:-//Ville Morte - ECPv5.12.4//NONSGML v1.0//EN
CALSCALE:GREGORIAN
METHOD:PUBLISH
X-WR-CALNAME:Ville Morte
X-ORIGINAL-URL:https://villemorte.fr
X-WR-CALDESC:évènements pour Ville Morte
BEGIN:VTIMEZONE
TZID:Europe/Paris
BEGIN:DAYLIGHT
TZOFFSETFROM:+0100
TZOFFSETTO:+0200
TZNAME:CEST
DTSTART:20190331T010000
END:DAYLIGHT
BEGIN:STANDARD
TZOFFSETFROM:+0200
TZOFFSETTO:+0100
TZNAME:CET
DTSTART:20191027T010000
END:STANDARD
END:VTIMEZONE
BEGIN:VEVENT
DTSTART;TZID=Europe/Paris:20190627T210000
DTEND;TZID=Europe/Paris:20190627T210000
DTSTAMP:20260425T191149
CREATED:20190425T114719Z
LAST-MODIFIED:20190425T114719Z
UID:9287-1561669200-1561669200@villemorte.fr
SUMMARY:LEFT LANE CRUISER
DESCRIPTION:Jeudi 27/21h\nLEFT LANE CRUISER (rock)\nCONCERT 14/12€
URL:https://villemorte.fr/agenda/left-lane-cruiser/
LOCATION:Périscope\, 13 rue Delandine\, Lyon\, 69002\, France
CATEGORIES:musique live
END:VEVENT
END:VCALENDAR