BEGIN:VCALENDAR
VERSION:2.0
PRODID:-//Ville Morte - ECPv5.12.4//NONSGML v1.0//EN
CALSCALE:GREGORIAN
METHOD:PUBLISH
X-WR-CALNAME:Ville Morte
X-ORIGINAL-URL:https://villemorte.fr
X-WR-CALDESC:évènements pour Ville Morte
BEGIN:VTIMEZONE
TZID:Europe/Paris
BEGIN:DAYLIGHT
TZOFFSETFROM:+0100
TZOFFSETTO:+0200
TZNAME:CEST
DTSTART:20240331T010000
END:DAYLIGHT
BEGIN:STANDARD
TZOFFSETFROM:+0200
TZOFFSETTO:+0100
TZNAME:CET
DTSTART:20241027T010000
END:STANDARD
END:VTIMEZONE
BEGIN:VEVENT
DTSTART;VALUE=DATE:20240504
DTEND;VALUE=DATE:20240506
DTSTAMP:20260420T011313
CREATED:20240430T204524Z
LAST-MODIFIED:20240430T204641Z
UID:24447-1714780800-1714953599@villemorte.fr
SUMMARY:Les ateliers font le printemps
DESCRIPTION:Louna Vox vous accueille avec ses Kamishibai à l’atelier Fire Starter\, Friche artistique Lamartine\, 21 rue Saint Victorien. Louna Vox et sa kamicyclette seront également présentes à la fête de la Nature\, à Genay le 25 mai 2024 (infos à venir).\nThierry Chassagnac\, plasticien\, ouvrira également son atelier\, à la même adresse.
URL:https://villemorte.fr/agenda/les-ateliers-font-le-printemps/
LOCATION:Friche Lamartine\, 21 rue St Victorien\, Lyon\, 69003\, France
CATEGORIES:atelier
END:VEVENT
END:VCALENDAR