BEGIN:VCALENDAR
VERSION:2.0
PRODID:-//Ville Morte - ECPv5.12.4//NONSGML v1.0//EN
CALSCALE:GREGORIAN
METHOD:PUBLISH
X-WR-CALNAME:Ville Morte
X-ORIGINAL-URL:https://villemorte.fr
X-WR-CALDESC:évènements pour Ville Morte
BEGIN:VTIMEZONE
TZID:Europe/Paris
BEGIN:DAYLIGHT
TZOFFSETFROM:+0100
TZOFFSETTO:+0200
TZNAME:CEST
DTSTART:20230326T010000
END:DAYLIGHT
BEGIN:STANDARD
TZOFFSETFROM:+0200
TZOFFSETTO:+0100
TZNAME:CET
DTSTART:20231029T010000
END:STANDARD
END:VTIMEZONE
BEGIN:VEVENT
DTSTART;TZID=Europe/Paris:20231102T203000
DTEND;TZID=Europe/Paris:20231102T203000
DTSTAMP:20260420T101800
CREATED:20231014T093021Z
LAST-MODIFIED:20231014T093021Z
UID:21316-1698957000-1698957000@villemorte.fr
SUMMARY:Les fugitifs
DESCRIPTION:Compagnie de théâtre d’improvisation adepte des formats longs alliant sincérité\, convivialité et dynamisme. \nPrix libre + adhésion à prix libre à partir de 3€
URL:https://villemorte.fr/agenda/les-fugitifs/
LOCATION:La Boulangerie du Prado\, 69 Rue Sébastien Gryphe\, Lyon\, 69007\, France
CATEGORIES:théâtre
ATTACH;FMTTYPE=image/png:https://villemorte.fr/wp-content/uploads/2023/10/image.png
END:VEVENT
END:VCALENDAR