BEGIN:VCALENDAR
VERSION:2.0
PRODID:-//Ville Morte - ECPv5.12.4//NONSGML v1.0//EN
CALSCALE:GREGORIAN
METHOD:PUBLISH
X-WR-CALNAME:Ville Morte
X-ORIGINAL-URL:https://villemorte.fr
X-WR-CALDESC:évènements pour Ville Morte
BEGIN:VTIMEZONE
TZID:Europe/Paris
BEGIN:DAYLIGHT
TZOFFSETFROM:+0100
TZOFFSETTO:+0200
TZNAME:CEST
DTSTART:20190331T010000
END:DAYLIGHT
BEGIN:STANDARD
TZOFFSETFROM:+0200
TZOFFSETTO:+0100
TZNAME:CET
DTSTART:20191027T010000
END:STANDARD
END:VTIMEZONE
BEGIN:VEVENT
DTSTART;TZID=Europe/Paris:20190513T210000
DTEND;TZID=Europe/Paris:20190513T210000
DTSTAMP:20260424T044453
CREATED:20190426T150420Z
LAST-MODIFIED:20190426T150420Z
UID:9422-1557781200-1557781200@villemorte.fr
SUMMARY:Les Grys-Grys
DESCRIPTION:En 2010\, cinq gamins qui s’emmerdaient dans leur ville cévenole ont décidé de créer un groupe et de partir sur les traces de Bo Diddley et Muddy Waters. Reprises obscures et survitaminées des Yardbirds\, Master Apprentices\, Q65\, arrangements explosifs\, énergie à revendre\, en quelques années\, les principaux festivals indépendants de France et d’Europe leur ont ouvert leur scène: Le Funtastic et Purple Week-End en Espagne\, le Beat Bespoké à Londres\, le Festival Beat en Italie\, le Berlin Beat Explosion en Allemagne\, la liste est longue. Invités par le festival Tiki Oasis à San Diego\, une tournée américaine a suivi en 2017.\nAu fil des années le son des Grys-Grys s’est teinté de psych-punk\, pour un résultat plus personnel et actuel\, qui pourrait rappeler « Help » des Oh Sees\, « Nonagon Infinity » de King Gizzard & the Wizard Lizard ou encore « Fuzz » le side project de Ty Segall et Charles Moothart. Ils ont acquis l’expérience nécessaire pour enfin d’atteindre leur but suprême: la confection toujours difficile du premier album\, ici album de compositions originales. L’enregistrement a été réalisé dans les studios Toe Rag à Londres sous la direction du sorcier Liam Watson déjà producteur de l’immense succès « Seven Nation Army » des White Stripes. Le disque tant attendu par une cohorte de fans est fin prêt. Une tournée de 19 dates est prévue en mai et plus de 50 dates européennes déjà planifiées dans les mois à venir. L’année 2019 sera celle des Grys-Grys. Les murs de la maison rock’n’roll n’ont pas fini de trembler… \nhttps://www.youtube.com/watch?v=ZGYdLV1i_D4\nhttps://www.youtube.com/watch?v=YexMvLSZyJc\nhttps://www.facebook.com/LesGrysGrys/?epa=SEARCH_BOX
URL:https://villemorte.fr/agenda/les-grys-grys/
LOCATION:Trokson\, 110 Montée de la grande côte\, Lyon\, 69001\, France
CATEGORIES:musique live
END:VEVENT
END:VCALENDAR