BEGIN:VCALENDAR
VERSION:2.0
PRODID:-//Ville Morte - ECPv5.12.4//NONSGML v1.0//EN
CALSCALE:GREGORIAN
METHOD:PUBLISH
X-WR-CALNAME:Ville Morte
X-ORIGINAL-URL:https://villemorte.fr
X-WR-CALDESC:évènements pour Ville Morte
BEGIN:VTIMEZONE
TZID:Europe/Paris
BEGIN:DAYLIGHT
TZOFFSETFROM:+0100
TZOFFSETTO:+0200
TZNAME:CEST
DTSTART:20190331T010000
END:DAYLIGHT
BEGIN:STANDARD
TZOFFSETFROM:+0200
TZOFFSETTO:+0100
TZNAME:CET
DTSTART:20191027T010000
END:STANDARD
END:VTIMEZONE
BEGIN:VEVENT
DTSTART;TZID=Europe/Paris:20190201T203000
DTEND;TZID=Europe/Paris:20190201T203000
DTSTAMP:20260419T224941
CREATED:20190116T143847Z
LAST-MODIFIED:20190116T143847Z
UID:8455-1549053000-1549053000@villemorte.fr
SUMMARY:Les Krapos + Fanfare La Pustule
DESCRIPTION:Vendredi 1er février à 20h30 / Les Krapos + Fanfare La Pustule / Prix Libre sur place / Infos >
URL:https://villemorte.fr/agenda/les-krapos-fanfare-la-pustule/
LOCATION:Toï Toï le Zinc\, 17-19 Rue Marcel Dutartre\, Villeurbanne\, 69100 \, France
CATEGORIES:musique live
END:VEVENT
END:VCALENDAR