BEGIN:VCALENDAR
VERSION:2.0
PRODID:-//Ville Morte - ECPv5.12.4//NONSGML v1.0//EN
CALSCALE:GREGORIAN
METHOD:PUBLISH
X-WR-CALNAME:Ville Morte
X-ORIGINAL-URL:https://villemorte.fr
X-WR-CALDESC:évènements pour Ville Morte
BEGIN:VTIMEZONE
TZID:Europe/Paris
BEGIN:DAYLIGHT
TZOFFSETFROM:+0100
TZOFFSETTO:+0200
TZNAME:CEST
DTSTART:20230326T010000
END:DAYLIGHT
BEGIN:STANDARD
TZOFFSETFROM:+0200
TZOFFSETTO:+0100
TZNAME:CET
DTSTART:20231029T010000
END:STANDARD
END:VTIMEZONE
BEGIN:VEVENT
DTSTART;TZID=Europe/Paris:20231117T203000
DTEND;TZID=Europe/Paris:20231117T203000
DTSTAMP:20260420T092749
CREATED:20231003T193903Z
LAST-MODIFIED:20231003T193903Z
UID:20984-1700253000-1700253000@villemorte.fr
SUMMARY:LGMX + Les Princesses Licornes + Bas relief
DESCRIPTION:▪️ Vendredi 17 novembre : LGMX + Les Princesses Licornes + Bas relief // 20h30 // 8\,5€\nCo-plateau complet avec le menu maxi branlée pleinement équilibré\, live électro\, électro brass et fanfare électro. Que des bons petits produits régionaux vaudais & villeurbannais\, avec électro dedans\, sans concession pour votre métabolisme auditif de fin gourmet.\nPlus d’infos ici
URL:https://villemorte.fr/agenda/lgmx-les-princesses-licornes-bas-relief/
LOCATION:Toï Toï le Zinc\, 17-19 Rue Marcel Dutartre\, Villeurbanne\, 69100 \, France
CATEGORIES:musique live
END:VEVENT
END:VCALENDAR