BEGIN:VCALENDAR
VERSION:2.0
PRODID:-//Ville Morte - ECPv5.12.4//NONSGML v1.0//EN
CALSCALE:GREGORIAN
METHOD:PUBLISH
X-WR-CALNAME:Ville Morte
X-ORIGINAL-URL:https://villemorte.fr
X-WR-CALDESC:évènements pour Ville Morte
BEGIN:VTIMEZONE
TZID:Europe/Paris
BEGIN:DAYLIGHT
TZOFFSETFROM:+0100
TZOFFSETTO:+0200
TZNAME:CEST
DTSTART:20240331T010000
END:DAYLIGHT
BEGIN:STANDARD
TZOFFSETFROM:+0200
TZOFFSETTO:+0100
TZNAME:CET
DTSTART:20241027T010000
END:STANDARD
END:VTIMEZONE
BEGIN:VEVENT
DTSTART;TZID=Europe/Paris:20241130T200000
DTEND;TZID=Europe/Paris:20241130T200000
DTSTAMP:20260420T071716
CREATED:20241019T143242Z
LAST-MODIFIED:20241019T143242Z
UID:26233-1732996800-1732996800@villemorte.fr
SUMMARY:LGMX 'Release Party' + Skokiaan Brass Band
DESCRIPTION:LGMX Trance & House Brass Band \nLGMX revisite les musiques électroniques dans une rave acoustique littéralement explosive. Les percussions dé-samplent les boîtes à rythme et\, les cuivres en guise de synthétiseurs\, le groupe ré-assemble le tout avec l’énergie généreuse du Live qui leur est propre. \nSolaire et dark à la fois\, le concert ultra festif fait voyager entre les harmonies planantes de la House\, le galop industriel de la Techno\, et les textures acides et imbriquées de la Psytrance. \nCe fin mélange de minimalisme et de richesse harmonique\, incarné par une orchestration acoustique “Brass Band” fait toute la singularité de LGMX et invite résolument à entrer en transe dès le début du concert. \nLe groupe sera pour la première fois sur la scène du Marché Gare pour fêter la sortie de son 2e album. RAVE ON ! \nSkokiaan Brass Band feat. Lisa Caldognetto\, « Skoki Mama » Release Party \nAprès plus de dix ans d’existence\, le Skokiaan Brass Band sort en novembre 2024 son deuxième album « Skoki Mama ». Une décennie de voyages\, de rencontres et de collaborations artistiques en France\, aux États-Unis et en Afrique de l’Ouest ont permis au groupe d’affirmer une identité musicale originale. \nInspiré par les brass bands des second lines de La Nouvelle-Orléans\, le Skokiaan BB mélange savamment funk\, jazz et rythmes afro-caribéens\, y ajoute quelques pincées de high life et d’afro beat du Golfe de Guinée et adore s’aventurer sur le territoire de la pop music. Portées par la bonne humeur et l’énergie communicative de ce collectif très soudé\, toutes ces influences ont permis au Skokiaan Brass Band de forger un son unique voué à réchauffer et égayer notre époque. \nAccompagnée par la chanteuse Lisa Caldognetto\, complice de longue date\, le Skokiaan Brass Band viendra fêter la sortie de son nouvel album au Marché Gare. \nLine up :\nLisa Caldognetto : chant\nFélicien Bouchot\, Christophe Métra\, Vincent Stéphan : trompettes\nPierre Baldy\, Jean Crozat : trombones\nFred Gardette\, François Rigaldiès : saxophones\nChristophe Garaboux : sousaphone\nChristophe Durand\, Philippe Bostvironnois : percussions
URL:https://villemorte.fr/agenda/lgmx-release-party-skokiaan-brass-band/
LOCATION:Marché Gare\,  34 rue Casimir Périer\, Lyon\, 69002\, France
CATEGORIES:musique live
END:VEVENT
END:VCALENDAR