BEGIN:VCALENDAR
VERSION:2.0
PRODID:-//Ville Morte - ECPv5.12.4//NONSGML v1.0//EN
CALSCALE:GREGORIAN
METHOD:PUBLISH
X-WR-CALNAME:Ville Morte
X-ORIGINAL-URL:https://villemorte.fr
X-WR-CALDESC:évènements pour Ville Morte
BEGIN:VTIMEZONE
TZID:Europe/Paris
BEGIN:DAYLIGHT
TZOFFSETFROM:+0100
TZOFFSETTO:+0200
TZNAME:CEST
DTSTART:20230326T010000
END:DAYLIGHT
BEGIN:STANDARD
TZOFFSETFROM:+0200
TZOFFSETTO:+0100
TZNAME:CET
DTSTART:20231029T010000
END:STANDARD
END:VTIMEZONE
BEGIN:VEVENT
DTSTART;TZID=Europe/Paris:20231117T183000
DTEND;TZID=Europe/Paris:20231117T183000
DTSTAMP:20260422T111325
CREATED:20231107T083712Z
LAST-MODIFIED:20231117T110217Z
UID:21535-1700245800-1700245800@villemorte.fr
SUMMARY:L'Hygiène Illustrée : 21 ans d'affiches de concert
DESCRIPTION:L’Hygiène Illustrée : 21 ans d’affiches de concert \nL’Hygiène Illustrée\, c’est un fanzine parisien qui a eu plein de noms\, né en 1995. C’est aussi des affiches de tournées\, des artworks pour les groupes Classic Dracula V et Le Death to Mankind\, les affiches de l’Hygiène Sonore et des gifs animés. C’est surtout des affiches de concerts (à partir de 2002 et jusqu’à aujourd’hui) qu’on retrouve régulièrement collées sur les murs de Lyon\, sous la forme d’un psychédélisme baroque à base de collages informatiques en couleurs ou en noir et rouge\, de références pop et de blagues de plus ou mauvais goût.  \nIl n’y a pas de hasards\, et ce n’en est donc pas un qu’on se retrouve à exposer ces dizaines et ces dizaines d’archives sur les murs de la Luttine.  \nOn vous attend nombreuses et nombreux au vernissage le Vendredi 17 Novembre à partir de 18h30 au 91 rue Montesquieu à Lyon 7!
URL:https://villemorte.fr/agenda/lhygiene-illustree-21-ans-daffiches-de-concert/
LOCATION:la luttine\, 91 rue Montesquieu\, LYON\, 69007
CATEGORIES:exposition
ATTACH;FMTTYPE=image/jpeg:https://villemorte.fr/wp-content/uploads/2023/11/laffiche-daffiches-copie-DEF-600.jpg
END:VEVENT
END:VCALENDAR