BEGIN:VCALENDAR
VERSION:2.0
PRODID:-//Ville Morte - ECPv5.12.4//NONSGML v1.0//EN
CALSCALE:GREGORIAN
METHOD:PUBLISH
X-WR-CALNAME:Ville Morte
X-ORIGINAL-URL:https://villemorte.fr
X-WR-CALDESC:évènements pour Ville Morte
BEGIN:VTIMEZONE
TZID:Europe/Paris
BEGIN:DAYLIGHT
TZOFFSETFROM:+0100
TZOFFSETTO:+0200
TZNAME:CEST
DTSTART:20170326T010000
END:DAYLIGHT
BEGIN:STANDARD
TZOFFSETFROM:+0200
TZOFFSETTO:+0100
TZNAME:CET
DTSTART:20171029T010000
END:STANDARD
END:VTIMEZONE
BEGIN:VEVENT
DTSTART;TZID=Europe/Paris:20170608T190000
DTEND;TZID=Europe/Paris:20170608T190000
DTSTAMP:20260423T030438
CREATED:20170520T163133Z
LAST-MODIFIED:20170520T163133Z
UID:3675-1496948400-1496948400@villemorte.fr
SUMMARY:LILY LUCA + MORIKAN
DESCRIPTION:LILY LUCA + MORIKAN \nJEU 8 JUIN – 19H > 21H30\nPrix libre (+adhésion annuelle) \n►LILY LUCA\nhttps://youtu.be/2iv1ySi0SPs \nLily Luca est bien une chanteuse\, à la démarche artistique gourmande et singulière\, originale et parfois loufoque\, une artiste qui n’aime rien tant que brouiller les pistes pour mieux tracer son propre chemin. Un petit peu dans la veine de Clarika\, elle porte un regard acéré et léger sur la société\, portant tel un fier étendard une gaieté libre et hardie. (extrait de la chronique du Coup de Cœur du Centre de la Chanson\, octobre 2016) \n\n► MORIKAN\nhttps://youtu.be/y0f6_LAj96Q \nLe nom d’une tribu. D’un Royaume. De tout un monde.\nMorikan est chargée d’histoire(s). Le patronyme (celui de sa mère) a traversé bien des pays. Un monde cosmopolite que l’artiste nous fait découvrir à travers une musique aux douces sonorités… Un aller-simple vers un univers où l’on devine les influences Soul et Méditerranéennes de la compositrice.\nLa voix est envoûtante\, sur le fil (Trapèze) ; la mélancolie\, aérienne. Intemporelle\, suspendue aux cordes du mandole et de la guitare de Clément Soto.\nDe showcases en concerts\, Morikan (également comédienne) se fait conteuse aux mille accents. Elle puise dans ses racines pour nous offrir une musique unique chargée d’amour. \nLE BAL DES FRINGANTS\n11 rue du Bon Pasteur\, Lyon 1\nM° Croix Rousse // Adhésion : 2€\ncontact@lagitateuse.com // 09 84 30 56 34\nwww.lebaldesfringants.com
URL:https://villemorte.fr/agenda/lily-luca-morikan/
LOCATION:Le bal des fringants\, 11 Rue du Bon-Pasteur\, lyon\, 69001\, France
CATEGORIES:musique live
END:VEVENT
END:VCALENDAR