BEGIN:VCALENDAR
VERSION:2.0
PRODID:-//Ville Morte - ECPv5.12.4//NONSGML v1.0//EN
CALSCALE:GREGORIAN
METHOD:PUBLISH
X-WR-CALNAME:Ville Morte
X-ORIGINAL-URL:https://villemorte.fr
X-WR-CALDESC:évènements pour Ville Morte
BEGIN:VTIMEZONE
TZID:Europe/Paris
BEGIN:DAYLIGHT
TZOFFSETFROM:+0100
TZOFFSETTO:+0200
TZNAME:CEST
DTSTART:20230326T010000
END:DAYLIGHT
BEGIN:STANDARD
TZOFFSETFROM:+0200
TZOFFSETTO:+0100
TZNAME:CET
DTSTART:20231029T010000
END:STANDARD
END:VTIMEZONE
BEGIN:VEVENT
DTSTART;TZID=Europe/Paris:20231201T200000
DTEND;TZID=Europe/Paris:20231201T200000
DTSTAMP:20260420T194011
CREATED:20231029T203641Z
LAST-MODIFIED:20231115T203125Z
UID:21487-1701460800-1701460800@villemorte.fr
SUMMARY:Livity Reggae Bash
DESCRIPTION:Livity Records & Toï Toï le Zinc vous présentent une nouvelle édition des soirées 100% Reggae music « Livity Reggae Bash » Une soirée exceptionnelle pour mettre en avant le message\, les valeurs et la culture portées par le reggae music ! « Equal Rights and justice for One and all » . \n\nJunior Dread (Reggae)\n\nNé et élevé dans le gueto de Vila Guilherme à São Paulo\, Brésil. Carlos Almeida Jr. « alias » Junior Dread représente la nouvelle génération de musique reggae consciente. Sa musique apporte au monde un message positif d’amour et de « dépassement ». Auteur de nombreux hits\, joué par une multitude de sound system tell que « Rise » avec gorgon sound\, « wonderful feeling »\, « control » avec évidence music. \n \n\nKhayo Benyahmeen\n\nBenjamin Keo alias Khayo ben Yahmeen est compositeur\, auteur\, chanteur et sélecteur ;\nil a été largement influencé dès son plus jeune âge par la musique blues et a commencé à composer du reggae en 2012 ; il a déjà réalisé de nombreux riddims et mixes pour des labels européens ; (Abendigo records\, Ilion\, Skytings\, Jah militant\, one nations\, blackboard jungle) il fait partie des artistes talentueux de sa génération inspiré par des musiciens britanniques comme jah shaka\, twinkle brother\, mafia & fluxy ou encore le légendaire Sly n Robbie. \n \n\nRas Brigaddier\n\nOriginaire de Colombie\, il représente « El gran Latido Crew » . activiste dans le milieu reggae conscient. \n\nLivity All Star\n\nLIVITY RECORDS présente un show exclusif qui vous plongera dans l’univers de ses artistes. La formule Livity All stars fait voyager entre les racines africaines\, la culture Jamaïcaine et la scène sound system actuelle. Avec King Joe Reggae\, Tonton Fari\, Diarraminal\, BlackMagique & Mighty Karma.
URL:https://villemorte.fr/agenda/livity-reggae-bash-3/
LOCATION:Toï Toï le Zinc\, 17-19 Rue Marcel Dutartre\, Villeurbanne\, 69100 \, France
CATEGORIES:musique live
END:VEVENT
END:VCALENDAR