BEGIN:VCALENDAR
VERSION:2.0
PRODID:-//Ville Morte - ECPv5.12.4//NONSGML v1.0//EN
CALSCALE:GREGORIAN
METHOD:PUBLISH
X-WR-CALNAME:Ville Morte
X-ORIGINAL-URL:https://villemorte.fr
X-WR-CALDESC:évènements pour Ville Morte
BEGIN:VTIMEZONE
TZID:Europe/Paris
BEGIN:DAYLIGHT
TZOFFSETFROM:+0100
TZOFFSETTO:+0200
TZNAME:CEST
DTSTART:20170326T010000
END:DAYLIGHT
BEGIN:STANDARD
TZOFFSETFROM:+0200
TZOFFSETTO:+0100
TZNAME:CET
DTSTART:20171029T010000
END:STANDARD
END:VTIMEZONE
BEGIN:VEVENT
DTSTART;TZID=Europe/Paris:20170406T200000
DTEND;TZID=Europe/Paris:20170406T200000
DTSTAMP:20260423T125853
CREATED:20170322T202252Z
LAST-MODIFIED:20170322T204600Z
UID:3350-1491508800-1491508800@villemorte.fr
SUMMARY:Lucas Hercberg + Renan Sechaud + Lionel Aubernon-Mono
DESCRIPTION:@ Bal des Fringants \nFESTIVAL « JE MARCHE SEUL » / avec Dur & Doux \nUn festival où des gens seuls se rassemblent pour être moins seuls et présenter ce que leurs esprits solitaires ont fomenté à l’arrivée de la trentaine.
URL:https://villemorte.fr/agenda/lucas-hercberg-renan-sechaud-lionel-aubernon-mono/
LOCATION:Le bal des fringants\, 11 Rue du Bon-Pasteur\, lyon\, 69001\, France
CATEGORIES:musique live
END:VEVENT
END:VCALENDAR