BEGIN:VCALENDAR
VERSION:2.0
PRODID:-//Ville Morte - ECPv5.12.4//NONSGML v1.0//EN
CALSCALE:GREGORIAN
METHOD:PUBLISH
X-WR-CALNAME:Ville Morte
X-ORIGINAL-URL:https://villemorte.fr
X-WR-CALDESC:évènements pour Ville Morte
BEGIN:VTIMEZONE
TZID:Europe/Paris
BEGIN:DAYLIGHT
TZOFFSETFROM:+0100
TZOFFSETTO:+0200
TZNAME:CEST
DTSTART:20180325T010000
END:DAYLIGHT
BEGIN:STANDARD
TZOFFSETFROM:+0200
TZOFFSETTO:+0100
TZNAME:CET
DTSTART:20181028T010000
END:STANDARD
END:VTIMEZONE
BEGIN:VEVENT
DTSTART;TZID=Europe/Paris:20181219T203000
DTEND;TZID=Europe/Paris:20181219T203000
DTSTAMP:20260419T184252
CREATED:20181123T141341Z
LAST-MODIFIED:20181123T141341Z
UID:7734-1545251400-1545251400@villemorte.fr
SUMMARY:Marché Gare Ciné-Club #4 "Yallah ! Underground"
DESCRIPTION:A l’occasion de l’Échappée Sauvage\, une saison hors les murs\, le Marché Gare s’associe à l’Aquarium ciné-café pour délocaliser son ciné-club ! Retrouvez ce trimestre une programmation thématique sur la musique et les contre-cultures. \n______________________________________________\nYALLAH ! UNDERGROUND\nMoyen Orient\, Documentaire\, 2015\, 85mn de Farid Eslam.\n______________________________________________ \nPalestine\, Jordanie\, Israël\, Liban\, Egypte\, de nombreux artistes underground ont rejoint les manifestations du Printemps Arabe. Ils doivent aujourd’hui faire face aux conséquences et porter un message fort pour leur génération. \nPrix Conscient : 2€ / 4€ / 6€\nAdhésion annuelle à prix libre à partir de 3 €\nRéservation conseillée à http://aquarium-cine-cafe.fr/reservation\n+ d’infos www.marchegare.fr\nPossibilité de se restaurer et de boire un verre sur place
URL:https://villemorte.fr/agenda/marche-gare-cine-club-4-yallah-underground/
LOCATION:Aquarium Ciné Café\, 10 rue Dumont\, Lyon\, 69004\, France
CATEGORIES:projection
END:VEVENT
END:VCALENDAR