BEGIN:VCALENDAR
VERSION:2.0
PRODID:-//Ville Morte - ECPv5.12.4//NONSGML v1.0//EN
CALSCALE:GREGORIAN
METHOD:PUBLISH
X-WR-CALNAME:Ville Morte
X-ORIGINAL-URL:https://villemorte.fr
X-WR-CALDESC:évènements pour Ville Morte
BEGIN:VTIMEZONE
TZID:Europe/Paris
BEGIN:DAYLIGHT
TZOFFSETFROM:+0100
TZOFFSETTO:+0200
TZNAME:CEST
DTSTART:20240331T010000
END:DAYLIGHT
BEGIN:STANDARD
TZOFFSETFROM:+0200
TZOFFSETTO:+0100
TZNAME:CET
DTSTART:20241027T010000
END:STANDARD
END:VTIMEZONE
BEGIN:VEVENT
DTSTART;TZID=Europe/Paris:20240207T200000
DTEND;TZID=Europe/Paris:20240207T200000
DTSTAMP:20260420T033358
CREATED:20240117T210657Z
LAST-MODIFIED:20240117T210657Z
UID:22669-1707336000-1707336000@villemorte.fr
SUMMARY:Mars Red Sky + Cosse + Occult Hand Order
DESCRIPTION:Mars Red Sky (Stoner Rock Psyché)\n\nD’une épaisse et complexe rythmique se dégage la voix éthérée et mélodique de Julien Pras\, portée par le lyrisme de la littérature de science-fiction… \nQuasi cinématographique\, le son de MARS RED SKY dégage une étrange et singulière saveur\, se distinguant habilement dans le paysage heavy rock. \nSur scène\, le groupe parvient à recréer leurs ambiances studios sophistiquées et à restituer la patte sonique qui les caractérise. Leurs lives absorbent l’auditeur\, le perdent dans des limbes visuelles et vibrantes\, le transportent dans une autre dimension. Au-delà d’un simple concert\, c’est une véritable expérience sensorielle qui est proposée. \n \n\nCosse (Post-Rock)\n\nAprès un premier EP très remarqué par la critique\, COSSE prépare désormais son premier album. Prévu pour février\, ce disque ambitieux a été enregistré au studio Katzwijm (Pays-Bas) sous l’égide de Floyd Atema\, figure centrale d’une scène post rock/noise actuelle puissante et inspirée. \nSe jouant des étiquettes\, Cosse rejette les codes autant qu’il les conjugue. La minutie et l’énergie que déploie le groupe sur scène est enivrante\, laissant dans son sillage un tumulte d’émotions. C’est subtil\, abrasif\, addictif… \n \n\nOccult Hand Order (Stoner Doom Psychédélique)\n\nLe groupe heavy-psych/post-rock OCCULT HAND ORDER a la faculté d’associer psychédélisme et doom occulte pour produire un décor sonique enivrant\, épicé par des riffs spectaculaires et une rythmique écrasante. \nLe groupe se joue du côté apocalyptique du doom et de paysages sonores empruntés avec subtilité au post-rock pour dénoncer une anxiété dévorante\, parfois paralysante. A l’image de vagues qui se cassent lentement\, impétueusement\, et en l’absence de solution\, l’exutoire naît de l’expression de la violence et de la noirceur.
URL:https://villemorte.fr/agenda/mars-red-sky-cosse-occult-hand-order/
LOCATION:Marché Gare\,  34 rue Casimir Périer\, Lyon\, 69002\, France
CATEGORIES:musique live
END:VEVENT
END:VCALENDAR