BEGIN:VCALENDAR
VERSION:2.0
PRODID:-//Ville Morte - ECPv5.12.4//NONSGML v1.0//EN
CALSCALE:GREGORIAN
METHOD:PUBLISH
X-WR-CALNAME:Ville Morte
X-ORIGINAL-URL:https://villemorte.fr
X-WR-CALDESC:évènements pour Ville Morte
BEGIN:VTIMEZONE
TZID:Europe/Paris
BEGIN:DAYLIGHT
TZOFFSETFROM:+0100
TZOFFSETTO:+0200
TZNAME:CEST
DTSTART:20200329T010000
END:DAYLIGHT
BEGIN:STANDARD
TZOFFSETFROM:+0200
TZOFFSETTO:+0100
TZNAME:CET
DTSTART:20201025T010000
END:STANDARD
END:VTIMEZONE
BEGIN:VEVENT
DTSTART;TZID=Europe/Paris:20200118T203000
DTEND;TZID=Europe/Paris:20200118T203000
DTSTAMP:20260424T090241
CREATED:20200118T124736Z
LAST-MODIFIED:20200118T124736Z
UID:11872-1579379400-1579379400@villemorte.fr
SUMMARY:Mathieu Cadot Trio
DESCRIPTION:Ce trio jazz vocal vous propose le son du swing à la manière de Ella Fitzgerald\, Joe Pass..Un répertoire avec du swing enlevé\, de la bossa\, du blues le tout interprété avec excellence un timbre de voix au sucre d’orge\, une contrebasse au swing irrésistible et une guitare jazzy… avec Angelina Pelluet au chant\, Muriel De Luca à la contrebasse et Mathieu Cadot à la guitare.
URL:https://villemorte.fr/agenda/mathieu-cadot-trio/
LOCATION:Aux Bons Sauvages\, 2 quai Jean Jacques Rousseau\, La Mulatière\, 69350\, France
CATEGORIES:musique live
END:VEVENT
END:VCALENDAR