BEGIN:VCALENDAR
VERSION:2.0
PRODID:-//Ville Morte - ECPv5.12.4//NONSGML v1.0//EN
CALSCALE:GREGORIAN
METHOD:PUBLISH
X-WR-CALNAME:Ville Morte
X-ORIGINAL-URL:https://villemorte.fr
X-WR-CALDESC:évènements pour Ville Morte
BEGIN:VTIMEZONE
TZID:Europe/Paris
BEGIN:DAYLIGHT
TZOFFSETFROM:+0100
TZOFFSETTO:+0200
TZNAME:CEST
DTSTART:20170326T010000
END:DAYLIGHT
BEGIN:STANDARD
TZOFFSETFROM:+0200
TZOFFSETTO:+0100
TZNAME:CET
DTSTART:20171029T010000
END:STANDARD
END:VTIMEZONE
BEGIN:VEVENT
DTSTART;TZID=Europe/Paris:20170225T211500
DTEND;TZID=Europe/Paris:20170225T211500
DTSTAMP:20260420T080725
CREATED:20170119T110243Z
LAST-MODIFIED:20170119T110243Z
UID:2948-1488057300-1488057300@villemorte.fr
SUMMARY:Max Lampin + Nid'Poul + Disco Boule// Expo Chris
DESCRIPTION:@Bar des Capucins \nPoint de non retour présente : \nCôté concerts : \nDisco Boule : Rock noise //Lyon\nTout nouveau groupe lyonnais 😉 \nNid’Poul : Rock’n’roll noisy et barré//Nancy\nhttps://nidpoul.bandcamp.com/ \nMax Lampin : Noise rock//Lyon\nhttps://maxlampin.bandcamp.com/releases \nCôté expo :\nCollages Chris : L’expo restera jusqu’au 8 avril !\n \nLes merveilles Affiche//fly : Chris
URL:https://villemorte.fr/agenda/max-lampin-nidpoul-disco-boule-expo-chris/
LOCATION:Bar des Capucins\, Place des Capucins\, Lyon\, 69001\, France
CATEGORIES:exposition,musique live
ATTACH;FMTTYPE=image/jpeg:https://villemorte.fr/wp-content/uploads/2017/01/15977784_1373539135992632_2072828010606967334_n.jpg
END:VEVENT
END:VCALENDAR