BEGIN:VCALENDAR
VERSION:2.0
PRODID:-//Ville Morte - ECPv5.12.4//NONSGML v1.0//EN
CALSCALE:GREGORIAN
METHOD:PUBLISH
X-WR-CALNAME:Ville Morte
X-ORIGINAL-URL:https://villemorte.fr
X-WR-CALDESC:évènements pour Ville Morte
BEGIN:VTIMEZONE
TZID:Europe/Paris
BEGIN:DAYLIGHT
TZOFFSETFROM:+0100
TZOFFSETTO:+0200
TZNAME:CEST
DTSTART:20190331T010000
END:DAYLIGHT
BEGIN:STANDARD
TZOFFSETFROM:+0200
TZOFFSETTO:+0100
TZNAME:CET
DTSTART:20191027T010000
END:STANDARD
END:VTIMEZONE
BEGIN:VEVENT
DTSTART;TZID=Europe/Paris:20190330T203000
DTEND;TZID=Europe/Paris:20190330T203000
DTSTAMP:20260425T234055
CREATED:20190114T133901Z
LAST-MODIFIED:20190114T133901Z
UID:8235-1553977800-1553977800@villemorte.fr
SUMMARY:melanie de biasio
DESCRIPTION:samedi 30/20h30 \nmelanie de biasio (pop / jazz) \nau centre charlin chaplin organisé par le périscope \nconcert – 24 /20/16 €
URL:https://villemorte.fr/agenda/melanie-de-biasio/
LOCATION:Centre Culturel Charlie Chaplin\, Place de la Nation\, Vaulx-en-Velin\, 69120\, France
CATEGORIES:musique live
END:VEVENT
END:VCALENDAR