BEGIN:VCALENDAR
VERSION:2.0
PRODID:-//Ville Morte - ECPv5.12.4//NONSGML v1.0//EN
CALSCALE:GREGORIAN
METHOD:PUBLISH
X-WR-CALNAME:Ville Morte
X-ORIGINAL-URL:https://villemorte.fr
X-WR-CALDESC:évènements pour Ville Morte
BEGIN:VTIMEZONE
TZID:Europe/Paris
BEGIN:DAYLIGHT
TZOFFSETFROM:+0100
TZOFFSETTO:+0200
TZNAME:CEST
DTSTART:20170326T010000
END:DAYLIGHT
BEGIN:STANDARD
TZOFFSETFROM:+0200
TZOFFSETTO:+0100
TZNAME:CET
DTSTART:20171029T010000
END:STANDARD
END:VTIMEZONE
BEGIN:VEVENT
DTSTART;TZID=Europe/Paris:20171005T200000
DTEND;TZID=Europe/Paris:20171005T200000
DTSTAMP:20260420T213720
CREATED:20171002T140851Z
LAST-MODIFIED:20171002T140851Z
UID:4218-1507233600-1507233600@villemorte.fr
SUMMARY:Melt banana + Le Death To Mankind + Vargo + Dj Dariev
DESCRIPTION:Jeu 5 oct : Melt banana + Le Death To Mankind + Vargo + Dj Dariev\n\n\n\n \n– Soirée Secousse Sismique pour à peu près 7 euros\, moins si tu peux pas\, plus si tu peux\n\n– Le lieu ne pourra probablement pas accueillir tout le monde\, réservation sur jesuisanxieux@gmail.com\n\n– Miam miam sur place\n\n– 20 h\n\n \nMelt Banana (duo voix/machines/guitares\, Tokyo)\nHéros Historiques de Gz. Puissance et Joie\, Hardcore et Pop\, Shoegaze et martèlements électroniques\, Napalm Death au pays des arcs en ciel. \n\nhttps://www.youtube.com/watch?v=aysf6wcvQAc \n\nmelt banana – slide down.mp3\n \nmelt banana – cat brain land.mp3\nmelt banana – crow’s paint brust (color repair).mp3\n\n\nLe Death To Mankind  (musique bruyante pour danser comme une patate\, Parisien un Jour Parisien Toujours)\nhttps://moncul.bandcamp.com/album/st-9\n \nVargo (psyché kraut sensible\, Lyon)\n \nDj Dariev (Tout Peut Arriver\, Ailleurs)
URL:https://villemorte.fr/agenda/melt-banana-death-to-mankind-vargo-dj-dariev/
LOCATION:jesuisanxieux@gmail.com
CATEGORIES:musique live
ATTACH;FMTTYPE=image/jpeg:https://villemorte.fr/wp-content/uploads/2017/10/05OctobreMeltBWeb.jpg
END:VEVENT
END:VCALENDAR