BEGIN:VCALENDAR
VERSION:2.0
PRODID:-//Ville Morte - ECPv5.12.4//NONSGML v1.0//EN
CALSCALE:GREGORIAN
METHOD:PUBLISH
X-WR-CALNAME:Ville Morte
X-ORIGINAL-URL:https://villemorte.fr
X-WR-CALDESC:évènements pour Ville Morte
BEGIN:VTIMEZONE
TZID:Europe/Paris
BEGIN:DAYLIGHT
TZOFFSETFROM:+0100
TZOFFSETTO:+0200
TZNAME:CEST
DTSTART:20220327T010000
END:DAYLIGHT
BEGIN:STANDARD
TZOFFSETFROM:+0200
TZOFFSETTO:+0100
TZNAME:CET
DTSTART:20221030T010000
END:STANDARD
END:VTIMEZONE
BEGIN:VEVENT
DTSTART;TZID=Europe/Paris:20220224T190000
DTEND;TZID=Europe/Paris:20220224T190000
DTSTAMP:20260426T000154
CREATED:20220213T213245Z
LAST-MODIFIED:20220213T213245Z
UID:14950-1645729200-1645729200@villemorte.fr
SUMMARY:Meuf-In-Stage #39
DESCRIPTION:Née de l’envie de voir se produire plus de meufs sur scène\,\nque tu sois performeuse\, chanteuse lyrique ou de garage\, que tu fasses du gros hip hop ou de soul\, que tu tates la marionnette\, la scie musicale\, du drag king ou de la ratte d’opérette\,\nle MEUFIN STAGE t’invite à venir te faire plaisir\, brûler les planches et vomir des paillettes !\nScène en non mixité choisie Meufs/gouines/trans\nPublic Mixte\n19h30 // Karen Sanchez Pineda (Bogota) // 30min\nDans une société oppressive et\nviolente\, à travers le chant et la danse\,\nune femme lutte pour se réapproprier\nson corps et son esprit\, grace à sa\npassion pour les plaisirs de la vie\nAutour de différents styles musicaux latino-américains\, ce spectacle mène trois disciplines de front : théâtre\, danse et musique!\nhttps://youtu.be/h8rQGRBIGZg\n\n20h30 // Bouffe végé ¨PRIX LIBRE\n21h // DJ YANKA // Djset badass\nYanka est une artiste plasticienne qui s’est vu naître au milieu des fleurs sauvages sur les terrains vagues.\nEn tant que Dj\, elle puise son inspiration dans les sonorités de la rue\, dans la poésie et la révolte\, la musique hip-hop dans le coeur\, elle représente les artistes femmes et queer internationales sous-estimées dans le milieu musical. Son mix mélange rap\, r’nb\, trap\, drill\, pop urbaine et hip-hop alternatif. Ses sets sont sans détour : contemporains\, revendicatifs\, hot et spicy. Membre du « collectif hip-hop féminin » et également rappeuz dans un duo de trap emo « Boule de Crystal ».\nhttps://linkr.bio/yanka\nhttps://www.nova.fr/…/entre-les-fleuves-50-le-mix-de…/\nEntrée PRIX LIBRE
URL:https://villemorte.fr/agenda/meuf-in-stage-39/
LOCATION:Rita-Plage\, 68 Cours Tolstoï\, Villeurbanne\, 69100
CATEGORIES:musique live
END:VEVENT
END:VCALENDAR