BEGIN:VCALENDAR
VERSION:2.0
PRODID:-//Ville Morte - ECPv5.12.4//NONSGML v1.0//EN
CALSCALE:GREGORIAN
METHOD:PUBLISH
X-WR-CALNAME:Ville Morte
X-ORIGINAL-URL:https://villemorte.fr
X-WR-CALDESC:évènements pour Ville Morte
BEGIN:VTIMEZONE
TZID:Europe/Paris
BEGIN:DAYLIGHT
TZOFFSETFROM:+0100
TZOFFSETTO:+0200
TZNAME:CEST
DTSTART:20180325T010000
END:DAYLIGHT
BEGIN:STANDARD
TZOFFSETFROM:+0200
TZOFFSETTO:+0100
TZNAME:CET
DTSTART:20181028T010000
END:STANDARD
END:VTIMEZONE
BEGIN:VEVENT
DTSTART;TZID=Europe/Paris:20181201T203000
DTEND;TZID=Europe/Paris:20181201T203000
DTSTAMP:20260419T223640
CREATED:20181021T203451Z
LAST-MODIFIED:20181021T203451Z
UID:7425-1543696200-1543696200@villemorte.fr
SUMMARY:MMMD - Mohammad
DESCRIPTION:@ Le Sonic \nMOHAMMAD (Grèce // Pan / Antifrost // Musique Minimaliste ou Doom chamber music)\nILIOS oscillateurs\nNIKOS VELIOTIS violoncelle \nhttp://mmmd.eu/\nhttps://mohammadsound.bandcamp.com/\nhttps://www.facebook.com/MMMDmohammad/ \nFondé en 2009 par trois activistes de la scène expérimentale grecque\, Mohammad (désormais en duo) est un groupe au charisme certain qui séduit instantanément par sa noirceur et sa profondeur. Instruments classiques amplifiés\, micro oscillations éléctroniques\, sens litanique et solennel de la composition\, la musique de Mohammad est puissante et vibrante… elle est surtout singulière et parvient à bousculer les lignes du drone… Doom chamber music ? \nEnregistrements parus sur Pan\, Antifrost… \n« La musique de Mohammad entretient de drôles de liens avec la noirceur. Elle est abrupte certes\, mais définitivement belle\, lascive et romantique\, même parsemée d’effluves pestiférées et de petite vérole. (…) Les trois compagnons de Mohammad tiennent l’artère vitale dans leur main\, en palpent le pouls et jouent de ses sursauts quand ils utilisent leurs nobles instruments en coups de boutoir.La recette de composition est simple\, inchangée par rapport aux oeuvres précédentes\, et bien que limitée\, elle apparaît comme évidente. Le violoncelle en est l’involontaire élément central\, renforcé par une contrebasse plombante\, elle même aidée par les ondulations pragmatiques des oscillateurs. Avec pour tout le monde un archet\, s’il vous plaît. (…) Rarement couronne d’épines ne s’est montrée si pénétrante. »\nSwqw \nhttp://mmmd.eu/\nhttps://mohammadsound.bandcamp.com/
URL:https://villemorte.fr/agenda/mmmd-mohammad/
LOCATION:Sonic\, 4 quai des Etroits\, Lyon\, 69005\, France
CATEGORIES:musique live
ATTACH;FMTTYPE=image/jpeg:https://villemorte.fr/wp-content/uploads/2018/10/37384980_1873722416004695_176131575107289088_n.jpg
END:VEVENT
END:VCALENDAR